BEGIN:VCALENDAR
VERSION:2.0
PRODID:-//Consorzio Costa Smeralda - ECPv6.15.20//NONSGML v1.0//EN
CALSCALE:GREGORIAN
METHOD:PUBLISH
X-ORIGINAL-URL:https://www.consorziocostasmeralda.com
X-WR-CALDESC:Eventi per Consorzio Costa Smeralda
REFRESH-INTERVAL;VALUE=DURATION:PT1H
X-Robots-Tag:noindex
X-PUBLISHED-TTL:PT1H
BEGIN:VTIMEZONE
TZID:UTC
BEGIN:STANDARD
TZOFFSETFROM:+0000
TZOFFSETTO:+0000
TZNAME:UTC
DTSTART:20240101T000000
END:STANDARD
END:VTIMEZONE
BEGIN:VEVENT
DTSTART;TZID=UTC:20250904T213000
DTEND;TZID=UTC:20250904T235500
DTSTAMP:20260420T223657
CREATED:20250514T100430Z
LAST-MODIFIED:20250619T100704Z
UID:17629-1757021400-1757030100@www.consorziocostasmeralda.com
SUMMARY:Classical Music Festival
DESCRIPTION:[vc_row][vc_column][vc_column_text css=””]Costa Smeralda Classical Music Festival 2025 \nA chiudere il cerchio di questa stagione sarà  la grande musica classica con il Classical Music Festival Costa Smeralda con i suoi prestigiosi artisti organizzato dal Consorzio Costa Smeralda. \n[/vc_column_text][/vc_column][/vc_row]
URL:https://www.consorziocostasmeralda.com/event/classical-music-festival-4-settembre-2025/
LOCATION:Conference Center-Porto Cervo\, Via Porto Vecchio\, 07021 Porto Cervo OT\, Porto Cervo\, 07021\, Italia
CATEGORIES:Eventi 2025,Eventi Consorzio,Prossimi Eventi
ATTACH;FMTTYPE=image/jpeg:https://www.consorziocostasmeralda.com/wp-content/uploads/2022/09/classical-music-festival-2.jpg
END:VEVENT
BEGIN:VEVENT
DTSTART;TZID=UTC:20250905T193000
DTEND;TZID=UTC:20250905T213000
DTSTAMP:20260420T223657
CREATED:20250515T100117Z
LAST-MODIFIED:20250821T113339Z
UID:17627-1757100600-1757107800@www.consorziocostasmeralda.com
SUMMARY:Longevity fest
DESCRIPTION:[vc_row][vc_column][vc_column_text css=””] \nLongevity fest \nLa quarta edizione del Longevity Fest si svolgerà invece da venerdì 5 settembre a domenica 7 settembre con la direzione artistica di Pietro Mereu e il panel gestito dal direttore scientifico Giovanni Scapagnini. L’evento di questa edizione ospiterà un talk con i ricercatori delle università di Harvard e UCLA e aggiungerà al suo format dei momenti di incontro con start-up che lavorano nel settore del benessere\, della longevità e delle tecnologie sostenibili. \n[/vc_column_text][/vc_column][/vc_row]
URL:https://www.consorziocostasmeralda.com/event/longevity-fest-5-settembre-2025/
LOCATION:Conference Center-Porto Cervo\, Via Porto Vecchio\, 07021 Porto Cervo OT\, Porto Cervo\, 07021\, Italia
CATEGORIES:Eventi 2025,Eventi Consorzio,Prossimi Eventi
ATTACH;FMTTYPE=image/jpeg:https://www.consorziocostasmeralda.com/wp-content/uploads/2023/09/longevity-fest-8.jpeg
END:VEVENT
BEGIN:VEVENT
DTSTART;TZID=UTC:20250906T193000
DTEND;TZID=UTC:20250906T213000
DTSTAMP:20260420T223657
CREATED:20250516T100814Z
LAST-MODIFIED:20250821T113330Z
UID:17632-1757187000-1757194200@www.consorziocostasmeralda.com
SUMMARY:Longevity fest
DESCRIPTION:[vc_row][vc_column][vc_column_text css=””] \nLongevity fest \nLa quarta edizione del Longevity Fest si svolgerà invece da venerdì 5 settembre a domenica 7 settembre con la direzione artistica di Pietro Mereu e il panel gestito dal direttore scientifico Giovanni Scapagnini. L’evento di questa edizione ospiterà un talk con i ricercatori delle università di Harvard e UCLA e aggiungerà al suo format dei momenti di incontro con start-up che lavorano nel settore del benessere\, della longevità e delle tecnologie sostenibili. \n[/vc_column_text][/vc_column][/vc_row]
URL:https://www.consorziocostasmeralda.com/event/longevity-fest-6-settembre-2025/
LOCATION:Arzachena – Piazza Risorgimento
CATEGORIES:Eventi 2025,Eventi Consorzio,Prossimi Eventi
ATTACH;FMTTYPE=image/jpeg:https://www.consorziocostasmeralda.com/wp-content/uploads/2023/09/longevity-fest-8.jpeg
END:VEVENT
BEGIN:VEVENT
DTSTART;TZID=UTC:20250907T193000
DTEND;TZID=UTC:20250907T213000
DTSTAMP:20260420T223657
CREATED:20250518T100922Z
LAST-MODIFIED:20250821T113348Z
UID:17634-1757273400-1757280600@www.consorziocostasmeralda.com
SUMMARY:Longevity fest
DESCRIPTION:[vc_row][vc_column][vc_column_text css=””] \nLongevity fest \nLa quarta edizione del Longevity Fest si svolgerà invece da venerdì 5 settembre a domenica 7 settembre con la direzione artistica di Pietro Mereu e il panel gestito dal direttore scientifico Giovanni Scapagnini. L’evento di questa edizione ospiterà un talk con i ricercatori delle università di Harvard e UCLA e aggiungerà al suo format dei momenti di incontro con start-up che lavorano nel settore del benessere\, della longevità e delle tecnologie sostenibili. \n[/vc_column_text][/vc_column][/vc_row]
URL:https://www.consorziocostasmeralda.com/event/longevity-fest-7-settembre-2025/
LOCATION:Conference Center-Porto Cervo\, Via Porto Vecchio\, 07021 Porto Cervo OT\, Porto Cervo\, 07021\, Italia
CATEGORIES:Eventi 2025,Eventi Consorzio,Prossimi Eventi
ATTACH;FMTTYPE=image/jpeg:https://www.consorziocostasmeralda.com/wp-content/uploads/2023/09/longevity-fest-8.jpeg
END:VEVENT
BEGIN:VEVENT
DTSTART;TZID=UTC:20250908T213000
DTEND;TZID=UTC:20250908T235500
DTSTAMP:20260420T223657
CREATED:20250520T101143Z
LAST-MODIFIED:20250621T070737Z
UID:17637-1757367000-1757375700@www.consorziocostasmeralda.com
SUMMARY:Classical Music Festival
DESCRIPTION:Costa Smeralda Classical Music Festival 2025 \nA chiudere il cerchio di questa stagione sarà  la grande musica classica con il Classical Music Festival Costa Smeralda con i suoi prestigiosi artisti organizzato dal Consorzio Costa Smeralda. \n 
URL:https://www.consorziocostasmeralda.com/event/classical-music-festival-8-settembre-2025/
LOCATION:Conference Center-Porto Cervo\, Via Porto Vecchio\, 07021 Porto Cervo OT\, Porto Cervo\, 07021\, Italia
CATEGORIES:Eventi 2025,Eventi Consorzio,Prossimi Eventi
ATTACH;FMTTYPE=image/jpeg:https://www.consorziocostasmeralda.com/wp-content/uploads/2022/09/classical-music-festival-2.jpg
END:VEVENT
BEGIN:VEVENT
DTSTART;TZID=UTC:20250910T213000
DTEND;TZID=UTC:20250910T235500
DTSTAMP:20260420T223657
CREATED:20250525T101247Z
LAST-MODIFIED:20250619T101326Z
UID:17639-1757539800-1757548500@www.consorziocostasmeralda.com
SUMMARY:Classical Music Festival
DESCRIPTION:[vc_row][vc_column][vc_column_text css=””]Costa Smeralda Classical Music Festival 2025 \nA chiudere il cerchio di questa stagione sarà  la grande musica classica con il Classical Music Festival Costa Smeralda con i suoi prestigiosi artisti organizzato dal Consorzio Costa Smeralda. \n[/vc_column_text][/vc_column][/vc_row]
URL:https://www.consorziocostasmeralda.com/event/classical-music-festival-10-settembre-2025/
LOCATION:Conference Center-Porto Cervo\, Via Porto Vecchio\, 07021 Porto Cervo OT\, Porto Cervo\, 07021\, Italia
CATEGORIES:Eventi 2025,Eventi Consorzio,Prossimi Eventi
ATTACH;FMTTYPE=image/jpeg:https://www.consorziocostasmeralda.com/wp-content/uploads/2022/09/classical-music-festival-2.jpg
END:VEVENT
BEGIN:VEVENT
DTSTART;TZID=UTC:20250912T213000
DTEND;TZID=UTC:20250912T235500
DTSTAMP:20260420T223657
CREATED:20250527T101415Z
LAST-MODIFIED:20250619T101443Z
UID:17641-1757712600-1757721300@www.consorziocostasmeralda.com
SUMMARY:Classical Music Festival
DESCRIPTION:[vc_row][vc_column][vc_column_text css=””]Costa Smeralda Classical Music Festival 2025 \nA chiudere il cerchio di questa stagione sarà  la grande musica classica con il Classical Music Festival Costa Smeralda con i suoi prestigiosi artisti organizzato dal Consorzio Costa Smeralda. \n[/vc_column_text][/vc_column][/vc_row]
URL:https://www.consorziocostasmeralda.com/event/classical-music-festival-12-settembre-2025/
LOCATION:Conference Center-Porto Cervo\, Via Porto Vecchio\, 07021 Porto Cervo OT\, Porto Cervo\, 07021\, Italia
CATEGORIES:Eventi 2025,Eventi Consorzio,Prossimi Eventi
ATTACH;FMTTYPE=image/jpeg:https://www.consorziocostasmeralda.com/wp-content/uploads/2022/09/classical-music-festival-2.jpg
END:VEVENT
BEGIN:VEVENT
DTSTART;TZID=UTC:20250913T193000
DTEND;TZID=UTC:20250913T213000
DTSTAMP:20260420T223657
CREATED:20250529T101510Z
LAST-MODIFIED:20250709T105229Z
UID:17643-1757791800-1757799000@www.consorziocostasmeralda.com
SUMMARY:Porto Cervo Libri - Marianna Aprile e Luca Telese
DESCRIPTION:[vc_row][vc_column][vc_column_text css=””] \nPorto Cervo Libri – Marianna Aprile e Luca Telese  \nI conduttori di In onda su La7 Marianna Aprile e Luca Telese presentano  Materiali resistenti\, Edizioni Piemme. Modera Luciano Piras\, caporedattore de La Nuova Sardegna \n[/vc_column_text][/vc_column][/vc_row]
URL:https://www.consorziocostasmeralda.com/event/porto-cervo-libri-marianna-aprile-luca-telese/
LOCATION:Piazzetta Marina di Porto Cervo
CATEGORIES:Eventi 2025,Eventi Consorzio,Prossimi Eventi
ATTACH;FMTTYPE=image/jpeg:https://www.consorziocostasmeralda.com/wp-content/uploads/2024/06/porto-cervo-2.jpeg
END:VEVENT
END:VCALENDAR