BEGIN:VCALENDAR
VERSION:2.0
PRODID:-//Consorzio Costa Smeralda - ECPv6.15.20//NONSGML v1.0//EN
CALSCALE:GREGORIAN
METHOD:PUBLISH
X-WR-CALNAME:Consorzio Costa Smeralda
X-ORIGINAL-URL:https://www.consorziocostasmeralda.com
X-WR-CALDESC:Eventi per Consorzio Costa Smeralda
REFRESH-INTERVAL;VALUE=DURATION:PT1H
X-Robots-Tag:noindex
X-PUBLISHED-TTL:PT1H
BEGIN:VTIMEZONE
TZID:UTC
BEGIN:STANDARD
TZOFFSETFROM:+0000
TZOFFSETTO:+0000
TZNAME:UTC
DTSTART:20240101T000000
END:STANDARD
END:VTIMEZONE
BEGIN:VEVENT
DTSTART;TZID=UTC:20250804T193000
DTEND;TZID=UTC:20250804T213000
DTSTAMP:20260421T002312
CREATED:20250408T083738Z
LAST-MODIFIED:20250707T145533Z
UID:17596-1754335800-1754343000@www.consorziocostasmeralda.com
SUMMARY:Porto Cervo Libri - Marzia Roncacci e Nunzia De Girolamo
DESCRIPTION:[vc_row][vc_column][vc_column_text css=””] \nPorto Cervo Libri – Marzia Roncacci e Nunzia De Girolamo \nLa conduttrice del Tg2 “Italia Europa” Marzia Roncacci presenta L’invidia del pene\, Oggi\, ha ancora senso questa teoria di Freud? Io non ho mai desiderato nascere maschio\, Edizioni Serradifalco. Modera Nunzia De Girolamo\, conduttrice di Ciao Maschio su Rai 1 \n[/vc_column_text][/vc_column][/vc_row]
URL:https://www.consorziocostasmeralda.com/event/porto-cervo-libri-marzia-roncacci-e-nunzia-de-girolamo/
LOCATION:Sottopiazza Spiaggietta – Porto Cervo\, Sottopiazza\, 07021 Porto Cervo SS\, Porto Cervo\, 07021\, Italia
CATEGORIES:Eventi 2025,Eventi Consorzio,Prossimi Eventi
ATTACH;FMTTYPE=image/jpeg:https://www.consorziocostasmeralda.com/wp-content/uploads/2024/06/porto-cervo-2.jpeg
END:VEVENT
BEGIN:VEVENT
DTSTART;TZID=UTC:20250806T220000
DTEND;TZID=UTC:20250806T233000
DTSTAMP:20260421T002312
CREATED:20250409T140413Z
LAST-MODIFIED:20250729T141128Z
UID:17862-1754517600-1754523000@www.consorziocostasmeralda.com
SUMMARY:Collage Live
DESCRIPTION:[vc_row][vc_column][vc_column_text css=””] \nConcerto dei Collage \nLa storica band\, formata da Tore Fazzi (voce e chitarra basso)\, Francesco Astara (batteria)\, Fabio Nicosia (tastiere) e Uccio Soro (chitarre) si esibirà a Porto Cervo proponendo una ricca scaletta di successi ottenuti negli anni ’70 e ’80. [/vc_column_text][/vc_column][/vc_row]
URL:https://www.consorziocostasmeralda.com/event/collage-live/
LOCATION:Piazzetta Centrale – Porto Cervo\, Piazza Centrale\, 07021 Porto Cervo SS\, Porto Cervo\, 07021\, Italia
CATEGORIES:Eventi 2025,Eventi Consorzio,Prossimi Eventi
ATTACH;FMTTYPE=image/jpeg:https://www.consorziocostasmeralda.com/wp-content/uploads/2024/06/porto-cervo-2.jpeg
END:VEVENT
BEGIN:VEVENT
DTSTART;TZID=UTC:20250807T193000
DTEND;TZID=UTC:20250807T210000
DTSTAMP:20260421T002312
CREATED:20250410T112409Z
LAST-MODIFIED:20250806T132917Z
UID:17846-1754595000-1754600400@www.consorziocostasmeralda.com
SUMMARY:Porto Cervo Libri - Fausto Farinelli
DESCRIPTION:[vc_row][vc_column][vc_column_text css=””] \nPorto Cervo Libri – Fausto Farinelli \nPresentazione del libro Costa Smeralda® a cura di Fausto Farinelli[/vc_column_text][/vc_column][/vc_row]
URL:https://www.consorziocostasmeralda.com/event/porto-cervo-libri-fausto-farinelli/
LOCATION:Piazza Centrale  –  Porto Cervo\, Piazza Centrale\, 07021 Porto Cervo SS\, Porto Cervo\, 07021\, Italia
CATEGORIES:Eventi 2025,Eventi Consorzio,Prossimi Eventi
ATTACH;FMTTYPE=image/jpeg:https://www.consorziocostasmeralda.com/wp-content/uploads/2024/06/porto-cervo-2.jpeg
END:VEVENT
BEGIN:VEVENT
DTSTART;TZID=UTC:20250808T220000
DTEND;TZID=UTC:20250808T233000
DTSTAMP:20260421T002312
CREATED:20250411T084733Z
LAST-MODIFIED:20250619T085041Z
UID:17603-1754690400-1754695800@www.consorziocostasmeralda.com
SUMMARY:Francesco Gabbani Live
DESCRIPTION:[vc_row][vc_column][vc_column_text css=””] \nConcerto di Francesco Gabbani \nIl cantautore\, compositore e giudice di X Factor è pronto a intrattenere il grande pubblico di Porto Cervo con un concerto previsto al campo sportivo ad Abbiadori[/vc_column_text][/vc_column][/vc_row]
URL:https://www.consorziocostasmeralda.com/event/francesco-gabbani-live/
LOCATION:Campo da Calcio Abbiadori\, 07021 Abbiadori SS\, Abbiadori\, 07021\, Italia
CATEGORIES:Eventi 2025,Eventi Consorzio,Prossimi Eventi
ATTACH;FMTTYPE=image/jpeg:https://www.consorziocostasmeralda.com/wp-content/uploads/2024/06/porto-cervo-2.jpeg
END:VEVENT
BEGIN:VEVENT
DTSTART;TZID=UTC:20250810T220000
DTEND;TZID=UTC:20250810T233000
DTSTAMP:20260421T002312
CREATED:20250414T085424Z
LAST-MODIFIED:20250728T152100Z
UID:17605-1754863200-1754868600@www.consorziocostasmeralda.com
SUMMARY:Duo Baldo e Maria Luigia Borsi
DESCRIPTION:[vc_row][vc_column][vc_column_text css=””]A Porto Cervo il talento e l’eleganza del soprano Maria Luigia Borsi\, e l’effervescenza del Duo Baldo in un concerto che è allo stesso tempo un incontro tra musica e divertimento.\nLa qualità artistica e il virtuosismo dei tre interpreti è garanzia della qualità musicale\, e la loro voglia di giocare sul palcoscenico\, con gusto e ironia\, propone un modo di accostarsi al mondo della musica classica aperto a grandi e piccini.[/vc_column_text][/vc_column][/vc_row]
URL:https://www.consorziocostasmeralda.com/event/duo-baldo-e-maria-luigia-borsi/
LOCATION:Piazzetta centrale\, Liscia di Vacca\, Piazza Centrale\, 07021 Porto Cervo SS\, Porto Cervo\, 07021\, Italia
CATEGORIES:Eventi 2025,Eventi Consorzio,Prossimi Eventi
ATTACH;FMTTYPE=image/jpeg:https://www.consorziocostasmeralda.com/wp-content/uploads/2025/04/base-evento-dx-1.jpg
END:VEVENT
BEGIN:VEVENT
DTSTART;TZID=UTC:20250811T193000
DTEND;TZID=UTC:20250811T210000
DTSTAMP:20260421T002312
CREATED:20250414T090140Z
LAST-MODIFIED:20250707T160330Z
UID:17608-1754940600-1754946000@www.consorziocostasmeralda.com
SUMMARY:Evento per bambini - “Music Comic Show”
DESCRIPTION:[vc_row][vc_column][vc_column_text css=””] \nEvento per bambini a Porto Cervo \n“Music Comic Show”[/vc_column_text][/vc_column][/vc_row]
URL:https://www.consorziocostasmeralda.com/event/evento-per-bambini-11-agosto-2025/
LOCATION:Spiaggetta Cala del faro
CATEGORIES:Eventi 2025,Eventi Consorzio,Prossimi Eventi
ATTACH;FMTTYPE=image/jpeg:https://www.consorziocostasmeralda.com/wp-content/uploads/2024/06/porto-cervo-2.jpeg
END:VEVENT
BEGIN:VEVENT
DTSTART;TZID=UTC:20250812T200000
DTEND;TZID=UTC:20250812T223000
DTSTAMP:20260421T002312
CREATED:20250414T090503Z
LAST-MODIFIED:20250812T073914Z
UID:17765-1755028800-1755037800@www.consorziocostasmeralda.com
SUMMARY:Concerto al tramonto
DESCRIPTION:[vc_row][vc_column][vc_column_text css=””] \nConcerto al tramonto \n [/vc_column_text][/vc_column][/vc_row]
URL:https://www.consorziocostasmeralda.com/event/concerto-al-tramonto/
LOCATION:Spiaggia Grande Cala del Faro
CATEGORIES:Eventi 2025,Eventi Consorzio,Prossimi Eventi
ATTACH;FMTTYPE=image/jpeg:https://www.consorziocostasmeralda.com/wp-content/uploads/2024/06/porto-cervo-2.jpeg
END:VEVENT
BEGIN:VEVENT
DTSTART;TZID=UTC:20250816T193000
DTEND;TZID=UTC:20250816T213000
DTSTAMP:20260421T002312
CREATED:20250422T090609Z
LAST-MODIFIED:20250707T152122Z
UID:17610-1755372600-1755379800@www.consorziocostasmeralda.com
SUMMARY:Porto Cervo Libri - Ettore Sequi e Alessandro Aresu
DESCRIPTION:[vc_row][vc_column][vc_column_text css=””] \nPorto Cervo Libri – Ettore Sequi e Alessandro Aresu \nL’ex ambasciatore italiano in Cina Ettore Sequi e il finalista Premio Strega sezione saggistica Alessandro Aresu presentano Geopolitica dell’intelligenza artificiale\, edizioni Feltrinelli. Modera Barbara Carfagna\, giornalista del Tg1 \n[/vc_column_text][/vc_column][/vc_row]
URL:https://www.consorziocostasmeralda.com/event/porto-cervo-libri-ettore-sequi-alessandro-aresu/
LOCATION:Sottopiazza Spiaggietta – Porto Cervo\, Sottopiazza\, 07021 Porto Cervo SS\, Porto Cervo\, 07021\, Italia
CATEGORIES:Eventi 2025,Eventi Consorzio,Prossimi Eventi
ATTACH;FMTTYPE=image/jpeg:https://www.consorziocostasmeralda.com/wp-content/uploads/2024/06/porto-cervo-2.jpeg
END:VEVENT
BEGIN:VEVENT
DTSTART;TZID=UTC:20250817T213000
DTEND;TZID=UTC:20250817T233000
DTSTAMP:20260421T002312
CREATED:20250428T091915Z
LAST-MODIFIED:20250619T092419Z
UID:17612-1755466200-1755473400@www.consorziocostasmeralda.com
SUMMARY:Serata Sarda
DESCRIPTION:[vc_row][vc_column][vc_column_text css=””] \nSerata Sarda \nPorto Cervo è inoltre pronta a rievocare le tradizioni dell’isola con una serata imperdibile per gli ospiti da tutto il mondo.[/vc_column_text][/vc_column][/vc_row]
URL:https://www.consorziocostasmeralda.com/event/serata-sarda-17-agosto-2025/
LOCATION:Piazza Centrale  –  Porto Cervo\, Piazza Centrale\, 07021 Porto Cervo SS\, Porto Cervo\, 07021\, Italia
CATEGORIES:Eventi 2025,Eventi Consorzio,Prossimi Eventi
ATTACH;FMTTYPE=image/jpeg:https://www.consorziocostasmeralda.com/wp-content/uploads/2024/06/porto-cervo-2.jpeg
END:VEVENT
BEGIN:VEVENT
DTSTART;TZID=UTC:20250820T220000
DTEND;TZID=UTC:20250820T233000
DTSTAMP:20260421T002312
CREATED:20250428T093541Z
LAST-MODIFIED:20250619T093813Z
UID:17615-1755727200-1755732600@www.consorziocostasmeralda.com
SUMMARY:Michele Zarrillo Live
DESCRIPTION:[vc_row][vc_column][vc_column_text css=””] \nConcerto di Michele Zarrillo \nIl cantautore e musicista italiano è tra gli artisti protagonisti dell’estate 2025 con un concerto unico a Porto Cervo.[/vc_column_text][/vc_column][/vc_row]
URL:https://www.consorziocostasmeralda.com/event/michele-zarrillo-live/
LOCATION:Piazzetta Centrale – Porto Cervo\, Piazza Centrale\, 07021 Porto Cervo SS\, Porto Cervo\, 07021\, Italia
CATEGORIES:Eventi 2025,Eventi Consorzio,Prossimi Eventi
ATTACH;FMTTYPE=image/jpeg:https://www.consorziocostasmeralda.com/wp-content/uploads/2024/06/porto-cervo-2.jpeg
END:VEVENT
BEGIN:VEVENT
DTSTART;TZID=UTC:20250822T193000
DTEND;TZID=UTC:20250822T213000
DTSTAMP:20260421T002312
CREATED:20250503T094136Z
LAST-MODIFIED:20250707T152423Z
UID:17619-1755891000-1755898200@www.consorziocostasmeralda.com
SUMMARY:Porto Cervo Libri - Tommaso Cerno
DESCRIPTION:[vc_row][vc_column][vc_column_text css=””] \nPorto Cervo Libri – Tommaso Cerno \nIl direttore de “Il Tempo” Tommaso Cerno presenta A Noi\, Edizioni Rizzoli. Modera Giorgio Fresu scrittore e giornalista di Teleregione. \n[/vc_column_text][/vc_column][/vc_row]
URL:https://www.consorziocostasmeralda.com/event/porto-cervo-libri-tommaso-cerno/
LOCATION:Sottopiazza Spiaggietta – Porto Cervo\, Sottopiazza\, 07021 Porto Cervo SS\, Porto Cervo\, 07021\, Italia
CATEGORIES:Eventi 2025,Eventi Consorzio,Prossimi Eventi
ATTACH;FMTTYPE=image/jpeg:https://www.consorziocostasmeralda.com/wp-content/uploads/2024/06/porto-cervo-2.jpeg
END:VEVENT
BEGIN:VEVENT
DTSTART;TZID=UTC:20250825T220000
DTEND;TZID=UTC:20250825T233000
DTSTAMP:20260421T002312
CREATED:20250507T094810Z
LAST-MODIFIED:20250619T095214Z
UID:17621-1756159200-1756164600@www.consorziocostasmeralda.com
SUMMARY:Neri per caso Live
DESCRIPTION:[vc_row][vc_column][vc_column_text css=””] \nConcerto dei Neri per caso  \nIl gruppo musicale a cappella di Salerno è pronto a esibirsi a Porto Cervo. Il concerto rientra nel ricco cartellone dell’estate 2025. \n[/vc_column_text][/vc_column][/vc_row]
URL:https://www.consorziocostasmeralda.com/event/neri-per-caso-live/
LOCATION:Piazzetta Centrale – Porto Cervo\, Piazza Centrale\, 07021 Porto Cervo SS\, Porto Cervo\, 07021\, Italia
CATEGORIES:Eventi 2025,Eventi Consorzio,Prossimi Eventi
ATTACH;FMTTYPE=image/jpeg:https://www.consorziocostasmeralda.com/wp-content/uploads/2024/06/porto-cervo-2.jpeg
END:VEVENT
BEGIN:VEVENT
DTSTART;TZID=UTC:20250826T193000
DTEND;TZID=UTC:20250826T213000
DTSTAMP:20260421T002312
CREATED:20250508T081332Z
LAST-MODIFIED:20250825T082601Z
UID:18433-1756236600-1756243800@www.consorziocostasmeralda.com
SUMMARY:Porto Cervo Libri - Sigfrido Ranucci
DESCRIPTION:[vc_row][vc_column][vc_column_text css=””] \nPorto Cervo Libri – Sigfrido Ranucci \nIl giornalista e conduttore di Report Sigfrido Ranucci presenta il suo nuovo libro “La Scelta”. L’appuntamento si svolgerà il 26 agosto alle 19:30 nella iconica Sottopiazza Spiaggetta. \n [/vc_column_text][/vc_column][/vc_row]
URL:https://www.consorziocostasmeralda.com/event/porto-cervo-libri-sigfrido-ranucci/
LOCATION:Sottopiazza Spiaggietta – Porto Cervo\, Sottopiazza\, 07021 Porto Cervo SS\, Porto Cervo\, 07021\, Italia
CATEGORIES:Eventi 2025,Eventi Consorzio,Prossimi Eventi
ATTACH;FMTTYPE=image/jpeg:https://www.consorziocostasmeralda.com/wp-content/uploads/2024/06/porto-cervo-2.jpeg
END:VEVENT
BEGIN:VEVENT
DTSTART;TZID=UTC:20250827T193000
DTEND;TZID=UTC:20250827T213000
DTSTAMP:20260421T002312
CREATED:20250509T095436Z
LAST-MODIFIED:20250707T153424Z
UID:17623-1756323000-1756330200@www.consorziocostasmeralda.com
SUMMARY:Porto Cervo Libri - Andrea Roncato
DESCRIPTION:[vc_row][vc_column][vc_column_text css=””] \nPorto Cervo Libri – Andrea Roncato  \nIl celebre attore Andrea Roncato presenta Ti avrei voluto\, Edizioni Excelsior. Modera Pamela D’amico\, autrice e conduttrice di Rai radio 1 \n[/vc_column_text][/vc_column][/vc_row]
URL:https://www.consorziocostasmeralda.com/event/porto-cervo-libri-andrea-roncato/
LOCATION:Sottopiazza Spiaggietta – Porto Cervo\, Sottopiazza\, 07021 Porto Cervo SS\, Porto Cervo\, 07021\, Italia
CATEGORIES:Eventi 2025,Eventi Consorzio,Prossimi Eventi
ATTACH;FMTTYPE=image/jpeg:https://www.consorziocostasmeralda.com/wp-content/uploads/2024/06/porto-cervo-2.jpeg
END:VEVENT
BEGIN:VEVENT
DTSTART;TZID=UTC:20250829T193000
DTEND;TZID=UTC:20250829T210000
DTSTAMP:20260421T002312
CREATED:20250509T123844Z
LAST-MODIFIED:20250707T161206Z
UID:17617-1756495800-1756501200@www.consorziocostasmeralda.com
SUMMARY:Evento per bambini - "Clown in viaggio"
DESCRIPTION:[vc_row][vc_column][vc_column_text css=””] \nEvento per bambini a Porto Cervo \n“Clown in viaggio”[/vc_column_text][/vc_column][/vc_row]
URL:https://www.consorziocostasmeralda.com/event/evento-per-bambini-29-agosto-2025/
LOCATION:Piazzetta della Marina\, Porto Cervo\, 07021\, SS\, Porto Cervo\, 07021\, Italia
CATEGORIES:Eventi 2025,Eventi Consorzio,Prossimi Eventi
ATTACH;FMTTYPE=image/jpeg:https://www.consorziocostasmeralda.com/wp-content/uploads/2024/06/porto-cervo-2.jpeg
END:VEVENT
BEGIN:VEVENT
DTSTART;TZID=UTC:20250830T193000
DTEND;TZID=UTC:20250830T213000
DTSTAMP:20260421T002312
CREATED:20250514T095644Z
LAST-MODIFIED:20250707T153611Z
UID:17625-1756582200-1756589400@www.consorziocostasmeralda.com
SUMMARY:Porto Cervo Libri - Giuseppe Scarpa
DESCRIPTION:[vc_row][vc_column][vc_column_text css=””] \nPorto Cervo Libri – Giuseppe Scarpa \nIl giornalista gallurese Giuseppe Scarpa (redattore sardo di Repubblica) presenta Roma criminale\, Edizioni Newton Compton. Modera Davide Mosca\, direttore di olbianotizie.it \n[/vc_column_text][/vc_column][/vc_row]
URL:https://www.consorziocostasmeralda.com/event/porto-cervo-libri-giuseppe-scarpa/
LOCATION:Sottopiazza Spiaggietta – Porto Cervo\, Sottopiazza\, 07021 Porto Cervo SS\, Porto Cervo\, 07021\, Italia
CATEGORIES:Eventi 2025,Eventi Consorzio,Prossimi Eventi
ATTACH;FMTTYPE=image/jpeg:https://www.consorziocostasmeralda.com/wp-content/uploads/2024/06/porto-cervo-2.jpeg
END:VEVENT
END:VCALENDAR