BEGIN:VCALENDAR
VERSION:2.0
PRODID:-//Consorzio Costa Smeralda - ECPv6.15.20//NONSGML v1.0//EN
CALSCALE:GREGORIAN
METHOD:PUBLISH
X-ORIGINAL-URL:https://www.consorziocostasmeralda.com
X-WR-CALDESC:Eventi per Consorzio Costa Smeralda
REFRESH-INTERVAL;VALUE=DURATION:PT1H
X-Robots-Tag:noindex
X-PUBLISHED-TTL:PT1H
BEGIN:VTIMEZONE
TZID:UTC
BEGIN:STANDARD
TZOFFSETFROM:+0000
TZOFFSETTO:+0000
TZNAME:UTC
DTSTART:20230101T000000
END:STANDARD
END:VTIMEZONE
BEGIN:VEVENT
DTSTART;TZID=UTC:20240715T193000
DTEND;TZID=UTC:20240715T210000
DTSTAMP:20260420T075739
CREATED:20240627T144538Z
LAST-MODIFIED:20240710T134053Z
UID:15964-1721071800-1721077200@www.consorziocostasmeralda.com
SUMMARY:Evento per bambini Circolander
DESCRIPTION:[vc_row][vc_column][vc_column_text] \nEvento per bambini Circolander \nAlle 19:30 nella spiaggetta Porto Cervo si terrà l’evento per bambini di Circo Lander\, il circo sardo di Priamo Casu. Fondato nel 1954\, il Circo Lander continua i suoi tour in tutta l’Isola grazie a questa famiglia di origine gallurese\, impegnata con tutte le sue componenti a proporre numeri sempre nuovi ed attrazioni divertenti e coinvolgenti[/vc_column_text][/vc_column][/vc_row]
URL:https://www.consorziocostasmeralda.com/event/evento-per-bambini-circolander/
LOCATION:Sottopiazza Spiaggietta – Porto Cervo\, Sottopiazza\, 07021 Porto Cervo SS\, Porto Cervo\, 07021\, Italia
CATEGORIES:Eventi 2024,Eventi Consorzio,Prossimi Eventi
ATTACH;FMTTYPE=image/jpeg:https://www.consorziocostasmeralda.com/wp-content/uploads/2024/06/porto-cervo-2.jpeg
END:VEVENT
BEGIN:VEVENT
DTSTART;TZID=UTC:20240716T220000
DTEND;TZID=UTC:20240716T233000
DTSTAMP:20260420T075739
CREATED:20240627T155704Z
LAST-MODIFIED:20240704T102531Z
UID:15972-1721167200-1721172600@www.consorziocostasmeralda.com
SUMMARY:Fabio Concato
DESCRIPTION:[vc_row][vc_column][vc_column_text] \n Fabio Concato in concerto \nImperdibile appuntamento con la grande musica italiana con il concerto di Fabio Concato in piazzetta Porto Cervo. L’artista\, in scena il 16 luglio alle 22\, guiderà il pubblico in un viaggio alla scoperta dei suoi più grandi successi. Una carriera di grandi canzoni che gli hanno consentito di ottenere diversi riconoscimenti come il Premio Lunezia 2007 per il valore musical-letterario dell’album Oltre il Giardino e l’Ambrogino d’oro nel 2020.[/vc_column_text][/vc_column][/vc_row]
URL:https://www.consorziocostasmeralda.com/event/fabio-concato/
LOCATION:Piazzetta Centrale – Porto Cervo\, Piazza Centrale\, 07021 Porto Cervo SS\, Porto Cervo\, 07021\, Italia
CATEGORIES:Eventi 2024,Eventi Consorzio,Prossimi Eventi
ATTACH;FMTTYPE=image/jpeg:https://www.consorziocostasmeralda.com/wp-content/uploads/2024/06/fabio-concato.jpg
END:VEVENT
BEGIN:VEVENT
DTSTART;TZID=UTC:20240718T193000
DTEND;TZID=UTC:20240718T210000
DTSTAMP:20260420T075739
CREATED:20240627T160018Z
LAST-MODIFIED:20240710T134210Z
UID:15974-1721331000-1721336400@www.consorziocostasmeralda.com
SUMMARY:Porto Cervo Libri - Umberto Oppus
DESCRIPTION:[vc_row][vc_column][vc_column_text] \nPorto Cervo Libri – Umberto Oppus \nSecondo appuntamento con Porto Cervo Libri. Il 18 luglio alle 19:30 si terrà la presentazione del libro di Umberto Oppus e Mario Fadda\, pubblicato da Carlo Delfino Editore\, dal titolo “Gigi Riva: Il campione\, l’amico\, il mito”. \nQuesto volume vuole raccontare proprio questo attraverso 70 testimonianze selezionate – per ribadire il simbolismo della data incisa nella storia sarda – che ripercorrono sul filo della commozione la storia di Gigi Riva\, l’uomo e il campione senza tempo. Perché\, come si sa\, i miti sono eterni.[/vc_column_text][/vc_column][/vc_row]
URL:https://www.consorziocostasmeralda.com/event/porto-cervo-libri-umberto-oppus/
LOCATION:Sottopiazza Spiaggietta – Porto Cervo\, Sottopiazza\, 07021 Porto Cervo SS\, Porto Cervo\, 07021\, Italia
CATEGORIES:Eventi 2024,Eventi Consorzio,Prossimi Eventi
ATTACH;FMTTYPE=image/jpeg:https://www.consorziocostasmeralda.com/wp-content/uploads/2024/06/gigi-riva.jpg
END:VEVENT
BEGIN:VEVENT
DTSTART;TZID=UTC:20240723T220000
DTEND;TZID=UTC:20240723T233000
DTSTAMP:20260420T075739
CREATED:20240627T160319Z
LAST-MODIFIED:20250619T085615Z
UID:15976-1721772000-1721777400@www.consorziocostasmeralda.com
SUMMARY:Concerto alla luna
DESCRIPTION:[vc_row][vc_column][vc_column_text css=””] \nConcerto alla luna \nDopo il successo dello scorso anno torna l’appuntamento con il Concerto alla Luna. La Piazzetta Liscia di vacca alle 10 si animerà grazie alle più grandi colonne sonore di tutti i tempi.[/vc_column_text][/vc_column][/vc_row]
URL:https://www.consorziocostasmeralda.com/event/concerto-alla-luna-3/
LOCATION:Piazzetta centrale\, Liscia di Vacca\, Piazza Centrale\, 07021 Porto Cervo SS\, Porto Cervo\, 07021\, Italia
CATEGORIES:Eventi 2024,Eventi Consorzio,Prossimi Eventi
ATTACH;FMTTYPE=image/jpeg:https://www.consorziocostasmeralda.com/wp-content/uploads/2024/06/porto-cervo-2.jpeg
END:VEVENT
BEGIN:VEVENT
DTSTART;TZID=UTC:20240724T193000
DTEND;TZID=UTC:20240724T210000
DTSTAMP:20260420T075739
CREATED:20240627T160521Z
LAST-MODIFIED:20240710T134246Z
UID:15978-1721849400-1721854800@www.consorziocostasmeralda.com
SUMMARY:Evento per bambini - Teatrino burattini
DESCRIPTION:[vc_row][vc_column][vc_column_text] \nEvento per bambini – Teatrino burattini \nDopo la bellezza del circo\, è giunto il tempo del teatrino dei burattini. I bambini sono tutti invitati a Porto Cervo in Piazzetta del Principe per sognare e vivere una serata straordinaria a partire dalle 19:30.[/vc_column_text][/vc_column][/vc_row]
URL:https://www.consorziocostasmeralda.com/event/evento-per-bambini-teatrino-burattini/
LOCATION:Piazza del Principe – Porto Cervo\, Porto Cervo\, 07021\, SS\, Porto Cervo\, 07021\, Italia
CATEGORIES:Eventi 2024,Eventi Consorzio,Prossimi Eventi
ATTACH;FMTTYPE=image/jpeg:https://www.consorziocostasmeralda.com/wp-content/uploads/2024/06/teatro-burattini.jpg
END:VEVENT
BEGIN:VEVENT
DTSTART;TZID=UTC:20240726T213000
DTEND;TZID=UTC:20240726T233000
DTSTAMP:20260420T075739
CREATED:20240627T160806Z
LAST-MODIFIED:20240704T103842Z
UID:15980-1722029400-1722036600@www.consorziocostasmeralda.com
SUMMARY:Climat Art
DESCRIPTION:[vc_row][vc_column][vc_column_text] \nClimat Art \nArt for Climate protagonista nell’appuntamento internazionale che si terrà dal 26 al 28 luglio a Porto Cervo\, in Sardegna.[/vc_column_text][/vc_column][/vc_row]
URL:https://www.consorziocostasmeralda.com/event/climat-art/
LOCATION:Piazzetta Centrale – Porto Cervo\, Piazza Centrale\, 07021 Porto Cervo SS\, Porto Cervo\, 07021\, Italia
CATEGORIES:Eventi 2024,Eventi Consorzio,Prossimi Eventi
ATTACH;FMTTYPE=image/jpeg:https://www.consorziocostasmeralda.com/wp-content/uploads/2023/03/SpiaggiadelPrincipe_4.jpeg
END:VEVENT
BEGIN:VEVENT
DTSTART;TZID=UTC:20240728T193000
DTEND;TZID=UTC:20240728T213000
DTSTAMP:20260420T075739
CREATED:20240627T160904Z
LAST-MODIFIED:20240704T103909Z
UID:15982-1722195000-1722202200@www.consorziocostasmeralda.com
SUMMARY:Climat Art
DESCRIPTION:[vc_row][vc_column][vc_column_text] \nClimat Art \nArt for Climate protagonista nell’appuntamento internazionale che si terrà dal 26 al 28 luglio a Porto Cervo\, in Sardegna.[/vc_column_text][/vc_column][/vc_row]
URL:https://www.consorziocostasmeralda.com/event/climat-art-2/
LOCATION:Conference Center-Porto Cervo\, Via Porto Vecchio\, 07021 Porto Cervo OT\, Porto Cervo\, 07021\, Italia
CATEGORIES:Eventi 2024,Eventi Consorzio,Prossimi Eventi
ATTACH;FMTTYPE=image/jpeg:https://www.consorziocostasmeralda.com/wp-content/uploads/2022/02/SpiaggiaDelPrincipeHD_3.jpg
END:VEVENT
BEGIN:VEVENT
DTSTART;TZID=UTC:20240731T220000
DTEND;TZID=UTC:20240731T233000
DTSTAMP:20260420T075739
CREATED:20240627T161355Z
LAST-MODIFIED:20240704T104403Z
UID:15984-1722463200-1722468600@www.consorziocostasmeralda.com
SUMMARY:Noemi in concerto
DESCRIPTION:[vc_row][vc_column][vc_column_text] \nNoemi in concerto \nPorto Cervo è pronta ad accogliere una delle cantanti più talentuose della scena italiana: Noemi. In seguito alla partecipazione alla seconda edizione italiana di X Factor\, è riuscita a conquistare il cuore del pubblico con canzoni di grande successo. \nNoemi ha alle spalle sette partecipazioni al Festival di Sanremo: nel 2010 con Per tutta la vita\, vincitore di un Sanremo Hit Award\, nel 2012 con Sono solo parole\, classificandosi al terzo posto\, nel 2014 con Un uomo è un albero e Bagnati dal sole\, che le hanno fruttato un Telegatto di Sanremo Social\, nel 2016 con il brano La borsa di una donna\, nel 2018 con Non smettere mai di cercarmi\, nel 2021 con Glicine e nel 2022 con Ti amo non lo so dire. \n[/vc_column_text][/vc_column][/vc_row]
URL:https://www.consorziocostasmeralda.com/event/noemi-in-concerto/
LOCATION:Piazzetta Centrale – Porto Cervo\, Piazza Centrale\, 07021 Porto Cervo SS\, Porto Cervo\, 07021\, Italia
CATEGORIES:Eventi 2024,Eventi Consorzio,Prossimi Eventi
ATTACH;FMTTYPE=image/jpeg:https://www.consorziocostasmeralda.com/wp-content/uploads/2024/06/noemi.jpg
END:VEVENT
END:VCALENDAR