BEGIN:VCALENDAR
VERSION:2.0
PRODID:-//Consorzio Costa Smeralda - ECPv6.15.20//NONSGML v1.0//EN
CALSCALE:GREGORIAN
METHOD:PUBLISH
X-ORIGINAL-URL:https://www.consorziocostasmeralda.com
X-WR-CALDESC:Eventi per Consorzio Costa Smeralda
REFRESH-INTERVAL;VALUE=DURATION:PT1H
X-Robots-Tag:noindex
X-PUBLISHED-TTL:PT1H
BEGIN:VTIMEZONE
TZID:UTC
BEGIN:STANDARD
TZOFFSETFROM:+0000
TZOFFSETTO:+0000
TZNAME:UTC
DTSTART:20220101T000000
END:STANDARD
END:VTIMEZONE
BEGIN:VEVENT
DTSTART;TZID=UTC:20231221T170000
DTEND;TZID=UTC:20231221T230000
DTSTAMP:20260421T120112
CREATED:20231213T050009Z
LAST-MODIFIED:20231213T105853Z
UID:15130-1703178000-1703199600@www.consorziocostasmeralda.com
SUMMARY:Bianche Presenze\, magia ed eleganza a Porto Cervo
DESCRIPTION:[vc_row][vc_column][vc_column_text] \nUno degli appuntamenti più attesi di Natale a Porto Cervo è senza dubbio  Bianche Presenze. Uno spettacolo\, previsto per giovedì 21 dicembre alle 18\, dove magia ed eleganza s’intrecciano in un mix di luci e suoni che trasformeranno il borgo in un sogno a occhi aperti. Gli artisti sapranno come stupire il pubblico presente nel villaggio di Natale. \nBianche Farfalle\, eteree\, eleganti\, accompagnate da angeli bianchi in frac trasformeranno il borgo in un luogo magico\, lontano dal tempo. Figure che danzano\, volano\, stupiscono\, e\, attraverso piccola pirotecnica\, rendono le strade un posto surreale fino al momento dell’aperitivo. I trampolieri saranno accompagnati da un elegante carro che diffonde nell’aria luci e leggere musiche sulle quali gli attori danzano accompagnati dal suono leggero di quella serata. Con la sera\, le farfalle si illuminano con delicate iridescenze di luce a led! La parata si concluderà con uno spettacolo fisso di Fuoco e di Luce. \n17 – Apertura mercatino \n18 – Spettacolo “Bianche Presenze” \n19 – Aperitivo del Mercatino \n[/vc_column_text][/vc_column][/vc_row]
URL:https://www.consorziocostasmeralda.com/event/bianche-presenze-magia-ed-eleganza-a-porto-cervo/
LOCATION:Porto Cervo\, Porto Cervo\, 07021\, SS\, Porto Cervo\, 07021\, Italia
CATEGORIES:Eventi 2023,Eventi Consorzio,Prossimi Eventi
ATTACH;FMTTYPE=image/jpeg:https://www.consorziocostasmeralda.com/wp-content/uploads/2023/12/bianche-presenze.jpg
END:VEVENT
END:VCALENDAR