BEGIN:VCALENDAR
VERSION:2.0
PRODID:-//Consorzio Costa Smeralda - ECPv6.15.20//NONSGML v1.0//EN
CALSCALE:GREGORIAN
METHOD:PUBLISH
X-WR-CALNAME:Consorzio Costa Smeralda
X-ORIGINAL-URL:https://www.consorziocostasmeralda.com
X-WR-CALDESC:Eventi per Consorzio Costa Smeralda
REFRESH-INTERVAL;VALUE=DURATION:PT1H
X-Robots-Tag:noindex
X-PUBLISHED-TTL:PT1H
BEGIN:VTIMEZONE
TZID:UTC
BEGIN:STANDARD
TZOFFSETFROM:+0000
TZOFFSETTO:+0000
TZNAME:UTC
DTSTART:20220101T000000
END:STANDARD
END:VTIMEZONE
BEGIN:VEVENT
DTSTART;TZID=UTC:20230911T190000
DTEND;TZID=UTC:20230911T233000
DTSTAMP:20260421T044122
CREATED:20230609T154542Z
LAST-MODIFIED:20230903T192047Z
UID:13823-1694458800-1694475000@www.consorziocostasmeralda.com
SUMMARY:Luca Telese - Porto Cervo Libri
DESCRIPTION:[vc_row][vc_column][vc_column_text]La sua carriera professionale incomincia con l’Unità\, il manifesto\, Il Messaggero e Il Foglio. Giornalista parlamentare\, nel 1996 è assunto all’Italia settimanale\, periodico diretto da Pietrangelo Buttafuoco. Nei primi anni 2000 è stato anche autore di alcune trasmissioni televisive sia in Rai che in Mediaset\, per poi approdare a La7 dove conduce il programma televisivo In Onda. Interviene spesso come ospite in talk show politici\, tra cui  Otto e mezzo e Cartabianca. A partire dal 2019 inizia a collaborare con il quotidiano online The Post Internazionale\, per il quale diviene vice-direttore nel 2021[/vc_column_text][/vc_column][/vc_row]
URL:https://www.consorziocostasmeralda.com/event/luca-telese-porto-cervo-libri/
LOCATION:Piazza del Principe – Porto Cervo\, Porto Cervo\, 07021\, SS\, Porto Cervo\, 07021\, Italia
CATEGORIES:Eventi 2023,Eventi Consorzio,Prossimi Eventi
ATTACH;FMTTYPE=image/jpeg:https://www.consorziocostasmeralda.com/wp-content/uploads/2023/06/telese.jpg
END:VEVENT
END:VCALENDAR