BEGIN:VCALENDAR
VERSION:2.0
PRODID:-//Consorzio Costa Smeralda - ECPv6.15.20//NONSGML v1.0//EN
CALSCALE:GREGORIAN
METHOD:PUBLISH
X-ORIGINAL-URL:https://www.consorziocostasmeralda.com
X-WR-CALDESC:Eventi per Consorzio Costa Smeralda
REFRESH-INTERVAL;VALUE=DURATION:PT1H
X-Robots-Tag:noindex
X-PUBLISHED-TTL:PT1H
BEGIN:VTIMEZONE
TZID:UTC
BEGIN:STANDARD
TZOFFSETFROM:+0000
TZOFFSETTO:+0000
TZNAME:UTC
DTSTART:20220101T000000
END:STANDARD
END:VTIMEZONE
BEGIN:VEVENT
DTSTART;TZID=UTC:20230910T213000
DTEND;TZID=UTC:20230910T235500
DTSTAMP:20260421T025603
CREATED:20230609T154054Z
LAST-MODIFIED:20230904T083907Z
UID:13674-1694381400-1694390100@www.consorziocostasmeralda.com
SUMMARY:Costa Smeralda Classical Music Festival
DESCRIPTION:[vc_row][vc_column][vc_column_text] \nRitorna a Porto Cervo a conclusione della Stagione Estiva 2023 il “Classical Music Festival Costa Smeralda”. Nelle edizioni precedenti hanno partecipato grandi concertisti come Martha Argerich\, Ivo Pogorelic\, il Trio Quarta Dindo De Maria\, Roman Kim\, Sergej Nakariakov\, D. Bogdanovich\, P. Berman e molti altri. L’edizione 2023 prevede quattro appuntamenti calendarizzati nella prima decade di settembre. \nLa quarta e conclusiva serata è dedicata alle eccellenze italiane nel mondo. A rappresentare questa categoria sarà ospite del Festival il contrabbassista Gabriele Ragghianti. Il contrabbassista\, noto a livello internazionale\, è contrabbas so solista dei “Solisti Veneti” Docente al Conservatorio di Lucca e al Royal College di Londra e solista on varie parti del mondo. Le musiche eseguite saranno di E. Grieg e G. Bottesini.[/vc_column_text][/vc_column][/vc_row]
URL:https://www.consorziocostasmeralda.com/event/costa-smeralda-classical-music-festival-10-settembre-2023/
LOCATION:Conference Center-Porto Cervo\, Via Porto Vecchio\, 07021 Porto Cervo OT\, Porto Cervo\, 07021\, Italia
CATEGORIES:Eventi 2023,Eventi Consorzio,Prossimi Eventi
ATTACH;FMTTYPE=image/jpeg:https://www.consorziocostasmeralda.com/wp-content/uploads/2023/06/Festival-Ragghianti.jpg
END:VEVENT
END:VCALENDAR