BEGIN:VCALENDAR
VERSION:2.0
PRODID:-//Consorzio Costa Smeralda - ECPv6.15.20//NONSGML v1.0//EN
CALSCALE:GREGORIAN
METHOD:PUBLISH
X-WR-CALNAME:Consorzio Costa Smeralda
X-ORIGINAL-URL:https://www.consorziocostasmeralda.com
X-WR-CALDESC:Eventi per Consorzio Costa Smeralda
REFRESH-INTERVAL;VALUE=DURATION:PT1H
X-Robots-Tag:noindex
X-PUBLISHED-TTL:PT1H
BEGIN:VTIMEZONE
TZID:UTC
BEGIN:STANDARD
TZOFFSETFROM:+0000
TZOFFSETTO:+0000
TZNAME:UTC
DTSTART:20220101T000000
END:STANDARD
END:VTIMEZONE
BEGIN:VEVENT
DTSTART;TZID=UTC:20230908T213000
DTEND;TZID=UTC:20230908T235500
DTSTAMP:20260421T065354
CREATED:20230609T153126Z
LAST-MODIFIED:20230904T083834Z
UID:13672-1694208600-1694217300@www.consorziocostasmeralda.com
SUMMARY:Costa Smeralda Classical Music Festival
DESCRIPTION:[vc_row][vc_column][vc_column_text] \nRitorna a Porto Cervo a conclusione della Stagione Estiva 2023 il “Classical Music Festival Costa Smeralda”. Nelle edizioni precedenti hanno partecipato grandi concertisti come Martha Argerich\, Ivo Pogorelic\, il Trio Quarta Dindo De Maria\, Roman Kim\, Sergej Nakariakov\, D. Bogdanovich\, P. Berman e molti altri. L’edizione 2023 prevede quattro appuntamenti calendarizzati nella prima decade di settembre. \nLa terza serata\, 8 settembre 2023\, invece è dedicata ai Grandi Interpreti della Storia della Mus ica. Questa edizione ospita il Maestro Mischa Maisky leggenda del Violoncello. Il programma prevede il Concerto Brandeburghese di J.S. Bach per archi con la partecipazione del Maestro Maisky a seguire il Concerto in Do maggiore per Violoncello e orchestra di F. J. Haydn\, \n[/vc_column_text][/vc_column][/vc_row]
URL:https://www.consorziocostasmeralda.com/event/costa-smeralda-classical-music-festival-8-settembre-2023/
LOCATION:Porto Cervo\, Porto Cervo\, 07021\, SS\, Porto Cervo\, 07021\, Italia
CATEGORIES:Eventi 2023,Eventi Consorzio,Prossimi Eventi
ATTACH;FMTTYPE=image/jpeg:https://www.consorziocostasmeralda.com/wp-content/uploads/2022/09/classical-music-festival-3.jpg
END:VEVENT
END:VCALENDAR