BEGIN:VCALENDAR
VERSION:2.0
PRODID:-//Consorzio Costa Smeralda - ECPv6.15.20//NONSGML v1.0//EN
CALSCALE:GREGORIAN
METHOD:PUBLISH
X-WR-CALNAME:Consorzio Costa Smeralda
X-ORIGINAL-URL:https://www.consorziocostasmeralda.com
X-WR-CALDESC:Eventi per Consorzio Costa Smeralda
REFRESH-INTERVAL;VALUE=DURATION:PT1H
X-Robots-Tag:noindex
X-PUBLISHED-TTL:PT1H
BEGIN:VTIMEZONE
TZID:UTC
BEGIN:STANDARD
TZOFFSETFROM:+0000
TZOFFSETTO:+0000
TZNAME:UTC
DTSTART:20220101T000000
END:STANDARD
END:VTIMEZONE
BEGIN:VEVENT
DTSTART;TZID=UTC:20231214T170000
DTEND;TZID=UTC:20231214T230000
DTSTAMP:20260421T083200
CREATED:20231213T025542Z
LAST-MODIFIED:20231213T100200Z
UID:15116-1702573200-1702594800@www.consorziocostasmeralda.com
SUMMARY:Musica e degustazioni aspettando Babbo Natale
DESCRIPTION:[vc_row][vc_column][vc_column_text] \nTorna il consueto appuntamento di Natale a Porto Cervo. Con Il Mercatino di Natale il borgo si illumina di colori. Il 14 dicembre alle 18 è prevista invece l’esibizione del coro dei ragazzi delle medie in attesa dell’arrivo di un ospite davvero speciale come Babbo Natale. Dopodiché ci sarà ampio spazio alla cucina locale con le degustazioni dei Chjusoni Galluresi. \n17 – Apertura mercatino \n18 – Coro ragazzi delle medie \n18:30 – Aperitivo Smeralda Holding \n19:30 – Babbo Natale Smeralda Holding \n19:30 – Degustazione Chjusoni Galluresi \n[/vc_column_text][/vc_column][/vc_row]
URL:https://www.consorziocostasmeralda.com/event/musica-e-degustazioni-aspettando-babbo-natale/
LOCATION:Porto Cervo\, Porto Cervo\, 07021\, SS\, Porto Cervo\, 07021\, Italia
CATEGORIES:Eventi 2023,Eventi Consorzio,Prossimi Eventi
ATTACH;FMTTYPE=image/jpeg:https://www.consorziocostasmeralda.com/wp-content/uploads/2023/12/natale-porto-cervo-1.jpg
END:VEVENT
BEGIN:VEVENT
DTSTART;TZID=UTC:20231215T170000
DTEND;TZID=UTC:20231215T230000
DTSTAMP:20260421T083200
CREATED:20231213T032047Z
LAST-MODIFIED:20231213T100947Z
UID:15118-1702659600-1702681200@www.consorziocostasmeralda.com
SUMMARY:Natale a passo di danza
DESCRIPTION:[vc_row][vc_column][vc_column_text] \nIl Natale a Porto Cervo si celebra a passo di ballo. In attesa di un week-end di grandi emozioni\, il 15 dicembre il borgo avrà il piacere di ospitare l’associazione Aristeia Danza che per l’occasione si esibirà alle 18 in uno spettacolo aperto al pubblico. In questo clima natalizio non può mancare l’aperitivo del mercatino per passare una serata in compagnia aspettando il fine settimana sotto il cielo stellato della Sardegna. \n17 –  Apertura mercatino \n18 – Spettacolo Aristeia Danza \n19 – Aperitivo del Mercatino \n[/vc_column_text][/vc_column][/vc_row]
URL:https://www.consorziocostasmeralda.com/event/natale-a-passo-di-danza/
LOCATION:Porto Cervo\, Porto Cervo\, 07021\, SS\, Porto Cervo\, 07021\, Italia
CATEGORIES:Eventi 2023,Eventi Consorzio,Prossimi Eventi
ATTACH;FMTTYPE=image/jpeg:https://www.consorziocostasmeralda.com/wp-content/uploads/2023/12/natale-porto-cervo-3.jpg
END:VEVENT
BEGIN:VEVENT
DTSTART;TZID=UTC:20231216T170000
DTEND;TZID=UTC:20231216T230000
DTSTAMP:20260421T083200
CREATED:20231213T040005Z
LAST-MODIFIED:20231213T102802Z
UID:15122-1702746000-1702767600@www.consorziocostasmeralda.com
SUMMARY:I brani dei Beatles a Porto Cervo
DESCRIPTION:[vc_row][vc_column][vc_column_text] \nL’intrattenimento musicale del secondo week-end natalizio di Porto Cervo proporrà i brani iconici di una delle band che hanno scritto la storia del pop-rock. Il 16 dicembre alle 18 i The Vaghi Beatles Tribute Band accompagneranno l’aperitivo del Mercatino riportandoci indietro nel tempo con un  tuffo nostalgico in un passato ancora vivo nell’animo di tanti di noi che continuano ad amare le musiche e lo spirito di uno dei gruppi più famosi degli anni ‘60. La band suona sempre esclusivamente dal vivo riproducendo fedelmente l’atmosfera dei mitici anni ’60\, utilizzando costumi di scena e strumenti musicali simili a quelli che gli stessi “Beatles” usavano durante i loro concerti. \nGabriele Grecu (Chitarra – Armonica – Voce) \nMarcello Ibba (Basso – Voce) \nGiuseppe Cocco (Chitarra – Voce) \nMauro Vacca (Batteria – Voce) \nMario Dinaro (Tastiere) \n17 – Apertura mercatino \n18 – The Vaghi Beatles Tribute Band \n19 – Aperitivo del Mercatino \n[/vc_column_text][/vc_column][/vc_row]
URL:https://www.consorziocostasmeralda.com/event/i-brani-dei-beatles-a-porto-cervo/
LOCATION:Porto Cervo\, Porto Cervo\, 07021\, SS\, Porto Cervo\, 07021\, Italia
CATEGORIES:Eventi 2023,Eventi Consorzio,Prossimi Eventi
ATTACH;FMTTYPE=image/jpeg:https://www.consorziocostasmeralda.com/wp-content/uploads/2023/12/vaghi-beatles.jpg
END:VEVENT
BEGIN:VEVENT
DTSTART;TZID=UTC:20231217T170000
DTEND;TZID=UTC:20231217T230000
DTSTAMP:20260421T083200
CREATED:20231213T042027Z
LAST-MODIFIED:20231213T104243Z
UID:15126-1702832400-1702854000@www.consorziocostasmeralda.com
SUMMARY:A Porto Cervo la musica degli Estemporanea
DESCRIPTION:[vc_row][vc_column][vc_column_text] \nDomenica 17 dicembre il trio acustico olbiese degli Estemporanea accompagnerà l’aperitivo del Mercatino a Porto Cervo a pochi giorni dal Natale. La band emergente composta da Giovanni Del Fonso\, Daniele Gala e Ottavio Cocco farà da sottofondo a una serata con un repertorio che unisce poesia tradizionale sarda con sonorità internazionali. \n17 – Apertura mercatino \n18 – Live Music: Estemporanea \n19 – Aperitivo del Mercatino \n[/vc_column_text][/vc_column][/vc_row]
URL:https://www.consorziocostasmeralda.com/event/a-porto-cervo-la-musica-degli-estemporanea/
LOCATION:Porto Cervo\, Porto Cervo\, 07021\, SS\, Porto Cervo\, 07021\, Italia
CATEGORIES:Eventi 2023,Eventi Consorzio,Prossimi Eventi
ATTACH;FMTTYPE=image/jpeg:https://www.consorziocostasmeralda.com/wp-content/uploads/2023/12/natale-porto-cervo-5.jpg
END:VEVENT
BEGIN:VEVENT
DTSTART;TZID=UTC:20231221T170000
DTEND;TZID=UTC:20231221T230000
DTSTAMP:20260421T083200
CREATED:20231213T050009Z
LAST-MODIFIED:20231213T105853Z
UID:15130-1703178000-1703199600@www.consorziocostasmeralda.com
SUMMARY:Bianche Presenze\, magia ed eleganza a Porto Cervo
DESCRIPTION:[vc_row][vc_column][vc_column_text] \nUno degli appuntamenti più attesi di Natale a Porto Cervo è senza dubbio  Bianche Presenze. Uno spettacolo\, previsto per giovedì 21 dicembre alle 18\, dove magia ed eleganza s’intrecciano in un mix di luci e suoni che trasformeranno il borgo in un sogno a occhi aperti. Gli artisti sapranno come stupire il pubblico presente nel villaggio di Natale. \nBianche Farfalle\, eteree\, eleganti\, accompagnate da angeli bianchi in frac trasformeranno il borgo in un luogo magico\, lontano dal tempo. Figure che danzano\, volano\, stupiscono\, e\, attraverso piccola pirotecnica\, rendono le strade un posto surreale fino al momento dell’aperitivo. I trampolieri saranno accompagnati da un elegante carro che diffonde nell’aria luci e leggere musiche sulle quali gli attori danzano accompagnati dal suono leggero di quella serata. Con la sera\, le farfalle si illuminano con delicate iridescenze di luce a led! La parata si concluderà con uno spettacolo fisso di Fuoco e di Luce. \n17 – Apertura mercatino \n18 – Spettacolo “Bianche Presenze” \n19 – Aperitivo del Mercatino \n[/vc_column_text][/vc_column][/vc_row]
URL:https://www.consorziocostasmeralda.com/event/bianche-presenze-magia-ed-eleganza-a-porto-cervo/
LOCATION:Porto Cervo\, Porto Cervo\, 07021\, SS\, Porto Cervo\, 07021\, Italia
CATEGORIES:Eventi 2023,Eventi Consorzio,Prossimi Eventi
ATTACH;FMTTYPE=image/jpeg:https://www.consorziocostasmeralda.com/wp-content/uploads/2023/12/bianche-presenze.jpg
END:VEVENT
BEGIN:VEVENT
DTSTART;TZID=UTC:20231223T170000
DTEND;TZID=UTC:20231223T230000
DTSTAMP:20260421T083200
CREATED:20231213T052734Z
LAST-MODIFIED:20231222T132655Z
UID:15134-1703350800-1703372400@www.consorziocostasmeralda.com
SUMMARY:Un concerto unico a lume di candela
DESCRIPTION:[vc_row][vc_column][vc_column_text] \nA causa del forte vento previsto per il 22 dicembre\, gli appuntamenti del Natale di Porto Cervo sono spostati a domani\, sabato 23 dicembre 2023\, dalle 17 alle 20. Oggi non aprirà neanche il mercatino. Il suggestivo concerto “Candle Lights” del pianista Rostyslav Prachun alle ore 18 accompagnerà la serata al villaggio di Natale di Porto Cervo che si prepara finalmente alla grande festa.  A seguire\, alle 19\, un appuntamento imperdibile per scoprire uno dei prodotti di eccellenza della tradizione gastronomica in Sardegna. \n17 – Apertura mercatino \n18 – Concerto Candlelights \n19 – Risotto cu li pulpeddu \n[/vc_column_text][/vc_column][/vc_row]
URL:https://www.consorziocostasmeralda.com/event/un-concerto-unico-a-lume-di-candela/
LOCATION:Porto Cervo\, Porto Cervo\, 07021\, SS\, Porto Cervo\, 07021\, Italia
CATEGORIES:Eventi 2023,Eventi Consorzio,Prossimi Eventi
ATTACH;FMTTYPE=image/jpeg:https://www.consorziocostasmeralda.com/wp-content/uploads/2023/12/concerto-lume-candela.jpg
END:VEVENT
BEGIN:VEVENT
DTSTART;TZID=UTC:20231223T170000
DTEND;TZID=UTC:20231223T230000
DTSTAMP:20260421T083200
CREATED:20231213T054513Z
LAST-MODIFIED:20231213T114210Z
UID:15138-1703350800-1703372400@www.consorziocostasmeralda.com
SUMMARY:Babbo Natale e i suoi folletti
DESCRIPTION:[vc_row][vc_column][vc_column_text] \nA due giorni esatti dal Natale\, Porto Cervo è pronto ad accogliere di nuovo Babbo Natale dopo il suo primo giro intorno al globo. Santa Claus è pronto a consegnare i doni natalizi ai più piccoli\, e i bambini non vedranno davvero l’ora di incontrarlo. Gli adulti avranno comunque dei validi motivi per venire a Porto Cervo visto l’appuntamento ormai consolidato con l’aperitivo del Mercatino. \n17 – Apertura mercatino \n18 – Babbo Natale e i suoi folletti \n19 – Aperitivo del Mercatino \n[/vc_column_text][/vc_column][/vc_row]
URL:https://www.consorziocostasmeralda.com/event/babbo-natale-e-i-suoi-folletti/
LOCATION:Porto Cervo\, Porto Cervo\, 07021\, SS\, Porto Cervo\, 07021\, Italia
CATEGORIES:Eventi 2023,Eventi Consorzio,Prossimi Eventi
ATTACH;FMTTYPE=image/jpeg:https://www.consorziocostasmeralda.com/wp-content/uploads/2023/12/Babbo-Natale-e-Folleto.jpg
END:VEVENT
BEGIN:VEVENT
DTSTART;TZID=UTC:20231228T170000
DTEND;TZID=UTC:20231228T230000
DTSTAMP:20260421T083200
CREATED:20231213T062002Z
LAST-MODIFIED:20231228T163238Z
UID:15142-1703782800-1703804400@www.consorziocostasmeralda.com
SUMMARY:Lo spettacolo delle bolle di sapone
DESCRIPTION:[vc_row][vc_column][vc_column_text]Aggiornamento: \nSono sospesi tutti gli eventi programmati in questi giorni del “Natale a Porto Cervo”. Il Mercatino rimarrà aperto per i visitatori\, ma senza musica né spettacoli.   \n«Blu…Le mille bolle blu. Blu…Le vedo intorno a me». Così cantava Mina in uno dei suoi brani più celebri della musica italiana. Adulti e bambini potranno vivere in prima persona questa splendida esperienza giovedì 28 dicembre con uno spettacolo di bolle di sapone in programma alle 18. Blowing Bubble Show di Irina kizlo è un fantastico spettacolo fiabesco dove i bambini saranno protagonisti e gli adulti verranno sbalorditi dall’incredibile fascino delle bolle di sapone. Il tutto accompagnato da un buon aperitivo nella zona del Mercatino a pochi giorni dal Capodanno.     \n17 – Apertura Mercatino \n18 – Spettacolo Bolle di Sapone (cancellato) \n19 – Aperitivo del Mercatino \n[/vc_column_text][/vc_column][/vc_row]
URL:https://www.consorziocostasmeralda.com/event/lo-spettacolo-delle-bolle-di-sapone/
LOCATION:Porto Cervo\, Porto Cervo\, 07021\, SS\, Porto Cervo\, 07021\, Italia
CATEGORIES:Eventi 2023,Eventi Consorzio,Prossimi Eventi
ATTACH;FMTTYPE=image/jpeg:https://www.consorziocostasmeralda.com/wp-content/uploads/2023/12/Irina-kizlo_1.jpg
END:VEVENT
BEGIN:VEVENT
DTSTART;TZID=UTC:20231229T170000
DTEND;TZID=UTC:20231229T230000
DTSTAMP:20260421T083200
CREATED:20231213T071023Z
LAST-MODIFIED:20231228T163306Z
UID:15146-1703869200-1703890800@www.consorziocostasmeralda.com
SUMMARY:Omaggio a Lucio Battisti a Porto Cervo
DESCRIPTION:[vc_row][vc_column][vc_column_text]Aggiornamento: \nSono sospesi tutti gli eventi programmati in questi giorni del “Natale a Porto Cervo”. Il Mercatino rimarrà aperto per i visitatori\, ma senza musica né spettacoli.   \nIl mio canto libero\, Un’avventura\, I giardini di marzo e Mi ritorni in mente  sono solo alcune delle canzoni che hanno segnato la cultura musicale in Italia. Il  29 dicembre la serata e l’aperitivo a Porto Cervo saranno accompagnate dal suono leggero e romantico di Innocenti Evasioni – Lucio Battisti Tribute Band che da tempo sta portando avanti uno degli spettacoli più intimi e autentici dedicati alle figure di Battisti e Mogol\, due giganti della musica italiana. \n17 – Apertura Mercatino \n18 – Innocenti Evasioni Battisti Tribute Band (cancellato) \n19 – Aperitivo del Mercatino \n[/vc_column_text][/vc_column][/vc_row]
URL:https://www.consorziocostasmeralda.com/event/omaggio-a-lucio-battisti-a-porto-cervo/
LOCATION:Porto Cervo\, Porto Cervo\, 07021\, SS\, Porto Cervo\, 07021\, Italia
CATEGORIES:Eventi 2023,Eventi Consorzio,Prossimi Eventi
ATTACH;FMTTYPE=image/jpeg:https://www.consorziocostasmeralda.com/wp-content/uploads/2023/12/natale-porto-cervo-9.jpg
END:VEVENT
BEGIN:VEVENT
DTSTART;TZID=UTC:20231230T170000
DTEND;TZID=UTC:20231230T230000
DTSTAMP:20260421T083200
CREATED:20231213T081705Z
LAST-MODIFIED:20231228T163322Z
UID:15150-1703955600-1703977200@www.consorziocostasmeralda.com
SUMMARY:Lo spettacolo Mangiafuoco
DESCRIPTION:[vc_row][vc_column][vc_column_text]Aggiornamento: \nSono sospesi tutti gli eventi programmati in questi giorni del “Natale a Porto Cervo”. Il Mercatino rimarrà aperto per i visitatori\, ma senza musica né spettacoli.   \nA un giorno esatto dall’evento più importante dell’anno\, Porto Cervo regalerà uno spettacolo davvero esclusivo che lascerà tutti a bocca aperta. Il borgo ospiterà infatti lo spettacolo mangiafuoco. Un’esperienza unica nel suo genere\, coinvolgente per adulti e bambini che rimarranno incantati da questo show magnifico. Dopodiché si terrà l’ultimo aperitivo del Mercatino del 2023. \n17 – Apertura Mercatino \n18 – Spettacolo Mangiafuoco (cancellato) \n19 – Aperitivo del Mercatino \n[/vc_column_text][/vc_column][/vc_row]
URL:https://www.consorziocostasmeralda.com/event/lo-spettacolo-mangiafuoco/
LOCATION:Porto Cervo\, Porto Cervo\, 07021\, SS\, Porto Cervo\, 07021\, Italia
CATEGORIES:Eventi 2023,Eventi Consorzio,Prossimi Eventi
ATTACH;FMTTYPE=image/jpeg:https://www.consorziocostasmeralda.com/wp-content/uploads/2023/12/natale-porto-cervo-11.jpg
END:VEVENT
END:VCALENDAR