BEGIN:VCALENDAR
VERSION:2.0
PRODID:-//Consorzio Costa Smeralda - ECPv6.15.20//NONSGML v1.0//EN
CALSCALE:GREGORIAN
METHOD:PUBLISH
X-WR-CALNAME:Consorzio Costa Smeralda
X-ORIGINAL-URL:https://www.consorziocostasmeralda.com
X-WR-CALDESC:Eventi per Consorzio Costa Smeralda
REFRESH-INTERVAL;VALUE=DURATION:PT1H
X-Robots-Tag:noindex
X-PUBLISHED-TTL:PT1H
BEGIN:VTIMEZONE
TZID:UTC
BEGIN:STANDARD
TZOFFSETFROM:+0000
TZOFFSETTO:+0000
TZNAME:UTC
DTSTART:20220101T000000
END:STANDARD
END:VTIMEZONE
BEGIN:VEVENT
DTSTART;TZID=UTC:20230801T220000
DTEND;TZID=UTC:20230801T235500
DTSTAMP:20260421T063850
CREATED:20230609T112017Z
LAST-MODIFIED:20230717T131227Z
UID:13629-1690927200-1690934100@www.consorziocostasmeralda.com
SUMMARY:Concerto alla Luna
DESCRIPTION:[vc_row][vc_column][vc_column_text] \nLe Musiche Disney\, Orchestra ritmico sinfonica Accademia Strumentale della Sardegna  \n[/vc_column_text][/vc_column][/vc_row]
URL:https://www.consorziocostasmeralda.com/event/concerto-alla-luna-2/
LOCATION:Piazzetta centrale\, Liscia di Vacca\, Piazza Centrale\, 07021 Porto Cervo SS\, Porto Cervo\, 07021\, Italia
CATEGORIES:Eventi 2023,Eventi Consorzio,Prossimi Eventi
ATTACH;FMTTYPE=image/jpeg:https://www.consorziocostasmeralda.com/wp-content/uploads/2023/06/concerto-luna.jpg
END:VEVENT
BEGIN:VEVENT
DTSTART;TZID=UTC:20230802T193000
DTEND;TZID=UTC:20230802T210000
DTSTAMP:20260421T063850
CREATED:20230609T112142Z
LAST-MODIFIED:20230731T110204Z
UID:13623-1691004600-1691010000@www.consorziocostasmeralda.com
SUMMARY:Monica Pais - Porto Cervo Libri
DESCRIPTION:[vc_row][vc_column][vc_column_text] \n“L’incendio del bosco grande”\, di Monica Pais  \n[/vc_column_text][/vc_column][/vc_row]
URL:https://www.consorziocostasmeralda.com/event/monica-pais-porto-cervo-libri/
LOCATION:Sottopiazza – Porto Cervo\, Sottopiazza\, 07021 Porto Cervo SS\, Porto Cervo\, 07021\, Italia
CATEGORIES:Eventi 2023,Eventi Consorzio,Prossimi Eventi
ATTACH;FMTTYPE=image/jpeg:https://www.consorziocostasmeralda.com/wp-content/uploads/2023/06/bosco.jpg
END:VEVENT
BEGIN:VEVENT
DTSTART;TZID=UTC:20230806T130000
DTEND;TZID=UTC:20230806T190000
DTSTAMP:20260421T063850
CREATED:20230609T112526Z
LAST-MODIFIED:20230803T132514Z
UID:14126-1691326800-1691348400@www.consorziocostasmeralda.com
SUMMARY:Origins Dj Vinyl Set - Nikki Beach
DESCRIPTION:[vc_row][vc_column][vc_column_text] \nEvento all’insegna dell’intrattenimento con Dj Claudio De Tullio che presenterà la sua collezione di vinili agli appassionati della buona musica. \n[/vc_column_text][/vc_column][/vc_row]
URL:https://www.consorziocostasmeralda.com/event/origins-dj-vinyl-set-6-agosto-2023/
LOCATION:Nikki Beach Costa Smeralda\, Loc. Cala Petra Ruja\, 07021 Arzachena SS\, Porto Cervo\, 07021\, Italia
CATEGORIES:Eventi 2023,Prossimi Eventi
ATTACH;FMTTYPE=image/jpeg:https://www.consorziocostasmeralda.com/wp-content/uploads/2023/07/nikki-beach-2.jpeg
END:VEVENT
BEGIN:VEVENT
DTSTART;TZID=UTC:20230806T190000
DTEND;TZID=UTC:20230806T203000
DTSTAMP:20260421T063850
CREATED:20230609T112613Z
LAST-MODIFIED:20230718T114423Z
UID:13958-1691348400-1691353800@www.consorziocostasmeralda.com
SUMMARY:Teatro dei bambini
DESCRIPTION:[vc_row][vc_column][vc_column_text]Appuntamento per i più piccoli a Porto Cervo. Spettacolo “Il piccolo archeologo” [/vc_column_text][/vc_column][/vc_row]
URL:https://www.consorziocostasmeralda.com/event/teatro-dei-bambini/
LOCATION:Piazzetta della Marina\, Porto Cervo\, 07021\, SS\, Porto Cervo\, 07021\, Italia
CATEGORIES:Eventi 2023,Eventi Consorzio,Prossimi Eventi
ATTACH;FMTTYPE=image/jpeg:https://www.consorziocostasmeralda.com/wp-content/uploads/2022/05/PortoCervo_6.jpg
END:VEVENT
BEGIN:VEVENT
DTSTART;TZID=UTC:20230807T193000
DTEND;TZID=UTC:20230807T210000
DTSTAMP:20260421T063850
CREATED:20230609T112754Z
LAST-MODIFIED:20230807T160754Z
UID:14173-1691436600-1691442000@www.consorziocostasmeralda.com
SUMMARY:Sergio Zuncheddu - Porto Cervo Libri
DESCRIPTION:[vc_row][vc_column][vc_column_text] \nEvento speciale il 7 agosto: sotto i riflettori di Porto Cervo Libri\, l’imprenditore ed editore de L’Unione Sarda Sergio Zuncheddu\, con la sua visionaria e documentata fatica letteraria dal titolo: Buongiorno SarDegna. \n[/vc_column_text][/vc_column][/vc_row]
URL:https://www.consorziocostasmeralda.com/event/sergio-zuncheddu-porto-cervo-libri/
LOCATION:Sottopiazza – Porto Cervo\, Sottopiazza\, 07021 Porto Cervo SS\, Porto Cervo\, 07021\, Italia
CATEGORIES:Eventi 2023,Eventi Consorzio,Prossimi Eventi
ATTACH;FMTTYPE=image/jpeg:https://www.consorziocostasmeralda.com/wp-content/uploads/2023/08/sardegna.jpg
END:VEVENT
BEGIN:VEVENT
DTSTART;TZID=UTC:20230808T053000
DTEND;TZID=UTC:20230808T070000
DTSTAMP:20260421T063850
CREATED:20230609T112804Z
LAST-MODIFIED:20230803T131309Z
UID:13635-1691472600-1691478000@www.consorziocostasmeralda.com
SUMMARY:Concerto all'alba
DESCRIPTION:[vc_row][vc_column][vc_column_text] \n“La Musica Leggera…Classica” Orchestra ritmico sinfonica Accademia Strumentale della Sardegna  \n[/vc_column_text][/vc_column][/vc_row]
URL:https://www.consorziocostasmeralda.com/event/concerto-alba/
LOCATION:Spiaggia Capriccioli\, Località Capriccioli\, 07021 Arzachena SS\, Porto Cervo\, 07021\, Italia
CATEGORIES:Eventi 2023,Eventi Consorzio,Prossimi Eventi
ATTACH;FMTTYPE=image/jpeg:https://www.consorziocostasmeralda.com/wp-content/uploads/2023/06/concerto-alba.jpg
END:VEVENT
BEGIN:VEVENT
DTSTART;TZID=UTC:20230810T193000
DTEND;TZID=UTC:20230810T210000
DTSTAMP:20260421T063850
CREATED:20230609T112938Z
LAST-MODIFIED:20230803T131304Z
UID:13632-1691695800-1691701200@www.consorziocostasmeralda.com
SUMMARY:Federico Palmaroli - Porto Cervo Libri
DESCRIPTION:[vc_row][vc_column][vc_column_text] \nFederico Palmaroli è nato a Roma il 9 giugno 1973 ed è conosciuto per essere giornalista e inventore della pagina satirica “Le più belle frasi di Osho“. A Porto Cervo presenterà il libro Come dice coso. Un anno di satira. \n[/vc_column_text][/vc_column][/vc_row]
URL:https://www.consorziocostasmeralda.com/event/federico-palmaroli-porto-cervo-libri/
LOCATION:Piazza del Principe – Porto Cervo\, Porto Cervo\, 07021\, SS\, Porto Cervo\, 07021\, Italia
CATEGORIES:Eventi 2023,Eventi Consorzio,Prossimi Eventi
ATTACH;FMTTYPE=image/jpeg:https://www.consorziocostasmeralda.com/wp-content/uploads/2023/06/palmaroli.jpg
END:VEVENT
BEGIN:VEVENT
DTSTART;TZID=UTC:20230811T130000
DTEND;TZID=UTC:20230811T190000
DTSTAMP:20260421T063850
CREATED:20230609T113014Z
LAST-MODIFIED:20230803T132813Z
UID:14130-1691758800-1691780400@www.consorziocostasmeralda.com
SUMMARY:Origins Dj Vinyl Set - Nikki Beach
DESCRIPTION:[vc_row][vc_column][vc_column_text] \nEvento all’insegna dell’intrattenimento con Dj Claudio De Tullio che presenterà la sua collezione di vinili agli appassionati della buona musica. \n[/vc_column_text][/vc_column][/vc_row]
URL:https://www.consorziocostasmeralda.com/event/origins-dj-vinyl-set-nikki-beach-11-agosto-2023/
LOCATION:Nikki Beach Costa Smeralda\, Loc. Cala Petra Ruja\, 07021 Arzachena SS\, Porto Cervo\, 07021\, Italia
CATEGORIES:Eventi 2023,Prossimi Eventi
ATTACH;FMTTYPE=image/jpeg:https://www.consorziocostasmeralda.com/wp-content/uploads/2023/07/nikki-beach-2.jpeg
END:VEVENT
BEGIN:VEVENT
DTSTART;TZID=UTC:20230814T220000
DTEND;TZID=UTC:20230814T235500
DTSTAMP:20260421T063850
CREATED:20230609T132801Z
LAST-MODIFIED:20230712T203947Z
UID:13642-1692050400-1692057300@www.consorziocostasmeralda.com
SUMMARY:Enrico Ruggeri - Concerto
DESCRIPTION:[vc_row][vc_column][vc_column_text] \nEnrico Ruggeri è un cantautore che ama spaziare dal rock (nasce come cantautore dei Decibel\, prima punk band italiana) alla più sofisticata musica d’autore. Ha all’attivo 31 album\, con quattro milioni di dischi venduti e più di 2000 concerti fatti. Vincitore due volte del Festival di Sanremo (con 4 premi della critica). Le sue canzoni sono state cantate dai più grandi interpreti italiani. Ha all’attivo 8 libri (tre romanzi) e numerose conduzioni di programmi televisivi. \n[/vc_column_text][/vc_column][/vc_row]
URL:https://www.consorziocostasmeralda.com/event/enrico-ruggeri-concerto/
LOCATION:Piazzetta Centrale – Porto Cervo\, Piazza Centrale\, 07021 Porto Cervo SS\, Porto Cervo\, 07021\, Italia
CATEGORIES:Eventi 2023,Eventi Consorzio,Prossimi Eventi
ATTACH;FMTTYPE=image/jpeg:https://www.consorziocostasmeralda.com/wp-content/uploads/2023/06/ruggeri.jpg
END:VEVENT
BEGIN:VEVENT
DTSTART;TZID=UTC:20230815T130000
DTEND;TZID=UTC:20230815T190000
DTSTAMP:20260421T063850
CREATED:20230609T133131Z
LAST-MODIFIED:20230803T132741Z
UID:13591-1692104400-1692126000@www.consorziocostasmeralda.com
SUMMARY:A Sardinian Ferragosto Story - Nikki Beach
DESCRIPTION:[vc_row][vc_column][vc_column_text]Il Ferragosto targato Nikki Beach! Una giornata che mette insieme l’artigianalità della Sardegna\, deliziosi prodotti gourmet e il suono inconfondibile dei Gypsy Cappers band.[/vc_column_text][/vc_column][/vc_row]
URL:https://www.consorziocostasmeralda.com/event/sardinian-ferragosto-story-nikki-beach/
LOCATION:Nikki Beach Costa Smeralda\, Loc. Cala Petra Ruja\, 07021 Arzachena SS\, Porto Cervo\, 07021\, Italia
CATEGORIES:Eventi 2023,Prossimi Eventi
ATTACH;FMTTYPE=image/jpeg:https://www.consorziocostasmeralda.com/wp-content/uploads/2023/07/nikki-beach-3.jpeg
END:VEVENT
BEGIN:VEVENT
DTSTART;TZID=UTC:20230818T193000
DTEND;TZID=UTC:20230818T210000
DTSTAMP:20260421T063850
CREATED:20230609T133627Z
LAST-MODIFIED:20230810T101445Z
UID:13647-1692387000-1692392400@www.consorziocostasmeralda.com
SUMMARY:Claudia Marin - Porto Cervo Libri
DESCRIPTION:[vc_row][vc_column][vc_column_text] \nUna consorziata di lungo corso\, Claudia Marin\, presente a Porto Cervo fin dai suoi primi anni di vita\, sarà protagonista del Festival con il suo ultimo lavoro.\nNapoletana con ascendenze venete e con la Sardegna nel cuore vive da sempre a Roma. Firma di punta per QN\, lo scorso mese di giugno ha pubblicato per Iride-Rubbettino Imperfezioni\, romanzo incentrato sulla violenza psicologica in ambito familiare in una buona famiglia borghese\, che presenterà il 18 agosto assieme al condirettore di QN Raffaele Marmo. \n[/vc_column_text][/vc_column][/vc_row]
URL:https://www.consorziocostasmeralda.com/event/claudia-marin-porto-cervo-libri/
LOCATION:Piazza del Principe – Porto Cervo\, Porto Cervo\, 07021\, SS\, Porto Cervo\, 07021\, Italia
CATEGORIES:Eventi 2023,Eventi Consorzio,Prossimi Eventi
ATTACH;FMTTYPE=image/jpeg:https://www.consorziocostasmeralda.com/wp-content/uploads/2023/06/imperfezioni.jpg
END:VEVENT
BEGIN:VEVENT
DTSTART;TZID=UTC:20230820T130000
DTEND;TZID=UTC:20230820T190000
DTSTAMP:20260421T063850
CREATED:20230609T134042Z
LAST-MODIFIED:20230803T133108Z
UID:14136-1692536400-1692558000@www.consorziocostasmeralda.com
SUMMARY:The Heart Beat - Nikki Beach
DESCRIPTION:[vc_row][vc_column][vc_column_text] \nEvento Amazing Sundays con la musica di Giovanni Ursoleo. \n[/vc_column_text][/vc_column][/vc_row]
URL:https://www.consorziocostasmeralda.com/event/the-heart-beat-nikki-beach/
LOCATION:Nikki Beach Costa Smeralda\, Loc. Cala Petra Ruja\, 07021 Arzachena SS\, Porto Cervo\, 07021\, Italia
CATEGORIES:Eventi 2023,Prossimi Eventi
ATTACH;FMTTYPE=image/jpeg:https://www.consorziocostasmeralda.com/wp-content/uploads/2023/07/nikki-beach-2.jpeg
END:VEVENT
BEGIN:VEVENT
DTSTART;TZID=UTC:20230822T130000
DTEND;TZID=UTC:20230822T190000
DTSTAMP:20260421T063850
CREATED:20230609T134504Z
LAST-MODIFIED:20230803T133319Z
UID:14132-1692709200-1692730800@www.consorziocostasmeralda.com
SUMMARY:Origins Dj Vinyl Set - Nikki Beach
DESCRIPTION:[vc_row][vc_column][vc_column_text] \nEvento all’insegna dell’intrattenimento con Dj Claudio De Tullio che presenterà la sua collezione di vinili agli appassionati della buona musica. \n[/vc_column_text][/vc_column][/vc_row]
URL:https://www.consorziocostasmeralda.com/event/origins-dj-vinyl-set-nikki-beach-22-agosto/
LOCATION:Nikki Beach Costa Smeralda\, Loc. Cala Petra Ruja\, 07021 Arzachena SS\, Porto Cervo\, 07021\, Italia
CATEGORIES:Eventi 2023,Prossimi Eventi
ATTACH;FMTTYPE=image/jpeg:https://www.consorziocostasmeralda.com/wp-content/uploads/2023/07/nikki-beach-2.jpeg
END:VEVENT
BEGIN:VEVENT
DTSTART;TZID=UTC:20230823T190000
DTEND;TZID=UTC:20230823T203000
DTSTAMP:20260421T063850
CREATED:20230609T142829Z
LAST-MODIFIED:20230731T110416Z
UID:13819-1692817200-1692822600@www.consorziocostasmeralda.com
SUMMARY:Spettacolo dei burattini
DESCRIPTION:[vc_row][vc_column][vc_column_text]Appuntamento per i più piccoli a Porto Cervo. “Manovella Circus” di Teatro Tages[/vc_column_text][/vc_column][/vc_row]
URL:https://www.consorziocostasmeralda.com/event/spettacolo-dei-burattini/
LOCATION:Sottopiazza – Porto Cervo\, Sottopiazza\, 07021 Porto Cervo SS\, Porto Cervo\, 07021\, Italia
CATEGORIES:Eventi 2023,Eventi Consorzio,Prossimi Eventi
ATTACH;FMTTYPE=image/jpeg:https://www.consorziocostasmeralda.com/wp-content/uploads/2022/05/PortoCervo_6.jpg
END:VEVENT
BEGIN:VEVENT
DTSTART;TZID=UTC:20230824T220000
DTEND;TZID=UTC:20230824T235500
DTSTAMP:20260421T063850
CREATED:20230609T142905Z
LAST-MODIFIED:20230712T205323Z
UID:13650-1692914400-1692921300@www.consorziocostasmeralda.com
SUMMARY:Le Vibrazioni + Dj set Lo Zoo di 105 - Concerto
DESCRIPTION:[vc_row][vc_column][vc_column_text] \nLe Vibrazioni sono una band milanese nata nel 1999 dall’incontro di quattro amici con la passione per il rock e gli anni ’70: Francesco Sarcina\, Stefano Verderi\, Marco Castellani e Alessandro Deidda. Rappresentano una fra le più longeve band del panorama musicale Italiano. Con cinque album all’attivo\, protagonisti da sempre delle classifiche italiane\, vantano 30 singoli in Top 20 ed oltre un milione di copie vendute complessivamente. \nLo Zoo di 105 è una trasmissione radiofonica in onda su Radio 105. Il programma possiede uno spiccato spirito satirico. Un record del programma è il numero di querele ricevute: alla data del 15 settembre 2007 erano ben 132. \n[/vc_column_text][/vc_column][/vc_row]
URL:https://www.consorziocostasmeralda.com/event/le-vibrazioni-dj-set-lo-zoo-di-105-concerto/
LOCATION:Campo da Calcio Abbiadori\, 07021 Abbiadori SS\, Abbiadori\, 07021\, Italia
CATEGORIES:Eventi 2023,Eventi Consorzio,Prossimi Eventi
ATTACH;FMTTYPE=image/jpeg:https://www.consorziocostasmeralda.com/wp-content/uploads/2023/06/le-vibrazioni.jpg
END:VEVENT
BEGIN:VEVENT
DTSTART;TZID=UTC:20230826T190000
DTEND;TZID=UTC:20230826T203000
DTSTAMP:20260421T063850
CREATED:20230609T145528Z
LAST-MODIFIED:20230824T135623Z
UID:13964-1693076400-1693081800@www.consorziocostasmeralda.com
SUMMARY:Mago Pirry
DESCRIPTION:[vc_row][vc_column][vc_column_text]Spettacolo di magia per bambini[/vc_column_text][/vc_column][/vc_row]
URL:https://www.consorziocostasmeralda.com/event/mago-pirry/
LOCATION:Sottopiazza – Porto Cervo\, Sottopiazza\, 07021 Porto Cervo SS\, Porto Cervo\, 07021\, Italia
CATEGORIES:Eventi 2023,Eventi Consorzio,Prossimi Eventi
ATTACH;FMTTYPE=image/jpeg:https://www.consorziocostasmeralda.com/wp-content/uploads/2022/05/PortoCervo_6.jpg
END:VEVENT
BEGIN:VEVENT
DTSTART;TZID=UTC:20230827T190000
DTEND;TZID=UTC:20230827T203000
DTSTAMP:20260421T063850
CREATED:20230609T145640Z
LAST-MODIFIED:20230803T133654Z
UID:13657-1693162800-1693168200@www.consorziocostasmeralda.com
SUMMARY:Marina Di Guardo - Porto Cervo Libri
DESCRIPTION:[vc_row][vc_column][vc_column_text]Marina Di Guardo è nata a Novara ma ha origini siciliane e vive a Cremona. È autrice di romanzi\, soprattutto di genere thriller. Ha lavorato come vicedirettrice dello showroom di Blumarine\, prima di dedicarsi alla scrittura.[1] Madre di tre figlie\, Chiara\, Valentina e Francesca Ferragni. \n[/vc_column_text][/vc_column][/vc_row]
URL:https://www.consorziocostasmeralda.com/event/marina-di-guardo-porto-cervo-libri/
LOCATION:Piazza del Principe – Porto Cervo\, Porto Cervo\, 07021\, SS\, Porto Cervo\, 07021\, Italia
CATEGORIES:Eventi 2023,Eventi Consorzio,Prossimi Eventi
ATTACH;FMTTYPE=image/jpeg:https://www.consorziocostasmeralda.com/wp-content/uploads/2023/06/dress-code.jpg
END:VEVENT
BEGIN:VEVENT
DTSTART;TZID=UTC:20230828T180000
DTEND;TZID=UTC:20230828T200000
DTSTAMP:20260421T063850
CREATED:20230609T145737Z
LAST-MODIFIED:20230803T133615Z
UID:14138-1693245600-1693252800@www.consorziocostasmeralda.com
SUMMARY:Processione in mare - Stella Maris
DESCRIPTION:[vc_row][vc_column][vc_column_text] \n La festa cadrà il 28 agosto quando\, dalle ore 18\, prenderà il via l’emozionante programma. Dopo la Celebrazione Eucaristica inizierà la suggestiva processione a mare nella rada di Porto Cervo\, con le barche gremite di persone che accompagnano la statua della Madonna nel giro del Golfo. Al termine della celebrazione religiosa verrà offerto un buffet  nella piazza Stella Maris\, la lotteria di beneficenza e balli folkloristici. \n[/vc_column_text][/vc_column][/vc_row]
URL:https://www.consorziocostasmeralda.com/event/processione-in-mare-stella-maris/
LOCATION:Chiesa Stella Maris – Porto Cervo\, Via Stella Maris\, Porto Cervo\, 07021\, Italia
CATEGORIES:Eventi 2023,Prossimi Eventi
ATTACH;FMTTYPE=image/jpeg:https://www.consorziocostasmeralda.com/wp-content/uploads/2021/08/StellaMarisLOW_1.jpg
END:VEVENT
BEGIN:VEVENT
DTSTART;TZID=UTC:20230831T190000
DTEND;TZID=UTC:20230831T230000
DTSTAMP:20260421T063850
CREATED:20230609T145817Z
LAST-MODIFIED:20230821T132118Z
UID:13653-1693508400-1693522800@www.consorziocostasmeralda.com
SUMMARY:Longevity Fest - Evento Blue Zone
DESCRIPTION:[vc_row][vc_column][vc_column_text] \nLongevity Fest – Longevità sarda e longevità giapponese a confronto\, è un evento di approfondimento del fenomeno dei centenari in Sardegna\, articolato in varie parti. L’appuntamento si terrà il 31 agosto 2023 alle 19 in Piazzetta della Marina. \nSi partirà con il talk “Okinawa e la Sardegna: così lontane\, così vicine” con: \n\nPietro Mereu\, Regista\, Fondatore LongevityFest\nGiovanni Scapagnini\, Medico Ricercatore Blue Zone\nCraig Wilcox\, Gerontologo\, Esperto Longevità Okinawa\nGiovanni Mario Pes\, Professore Co-fondatore Blue Zone\nConduce: Eleonora Cozzella\, Giornalista\, Esperta Cultura Gastronomica Italiana\n\nA seguire la proiezione del documentario su Okinawa. Un estratto di 20 minuti dal Docufilm “Kentannos” di Victor Cruz. \nNel corso della serata nello spazio Insula: Sardinia Quality World si terrà la seconda edizione de “I sentieri del turismo enogastronomico\, un viaggio esperienziale tra longevità e valori della dieta sardo – mediterranea”. \nSaranno presenti all’incontro: \n\nMassimo Masia\, Project Manager Insula\nGiovanni Chessa\, Assessore al Turismo\, Artigianato e Commercio Regione Sardegna\n\nSeguirà degustazione sardo-giapponese a cura dello chef Insula Angelo Serra con la partecipazione di Roberto Okabe (Chef di Finger’s)\nPer info: info@consorziocostasmeralda.com – l’accesso sarà garantito fino a esaurimento dei posti disponibili[/vc_column_text][/vc_column][/vc_row]
URL:https://www.consorziocostasmeralda.com/event/longevity-fest-evento-blue-zone/
LOCATION:Piazza della Marina – Porto Cervo\, Piazza della Marina\, 07021 Porto Cervo\, Porto Cervo\, 07021\, Italia
CATEGORIES:Eventi 2023,Eventi Consorzio,Prossimi Eventi
ATTACH;FMTTYPE=image/jpeg:https://www.consorziocostasmeralda.com/wp-content/uploads/2023/06/longevity-fest.jpg
END:VEVENT
END:VCALENDAR