BEGIN:VCALENDAR
VERSION:2.0
PRODID:-//Consorzio Costa Smeralda - ECPv6.15.20//NONSGML v1.0//EN
CALSCALE:GREGORIAN
METHOD:PUBLISH
X-WR-CALNAME:Consorzio Costa Smeralda
X-ORIGINAL-URL:https://www.consorziocostasmeralda.com
X-WR-CALDESC:Eventi per Consorzio Costa Smeralda
REFRESH-INTERVAL;VALUE=DURATION:PT1H
X-Robots-Tag:noindex
X-PUBLISHED-TTL:PT1H
BEGIN:VTIMEZONE
TZID:UTC
BEGIN:STANDARD
TZOFFSETFROM:+0000
TZOFFSETTO:+0000
TZNAME:UTC
DTSTART:20220101T000000
END:STANDARD
END:VTIMEZONE
BEGIN:VEVENT
DTSTART;TZID=UTC:20230713T193000
DTEND;TZID=UTC:20230713T210000
DTSTAMP:20260421T083109
CREATED:20230609T090654Z
LAST-MODIFIED:20230712T185137Z
UID:13608-1689276600-1689282000@www.consorziocostasmeralda.com
SUMMARY:Silvana Giacobini - Porto Cervo Libri
DESCRIPTION:[vc_row][vc_column][vc_column_text] \nSilvana Giacobini è una giornalista\, scrittrice\, conduttrice televisiva e opinionista italiana. Debutta nel 1962 come conduttrice televisiva. Comincia la propria carriera di giornalista negli anni settanta\, lavorando per la Rusconi Editore[2] alle testate Eva Express e Gioia[2]\, di cui diventa direttrice per diversi anni. Nel 1994 ha ideato e diretto per Arnoldo Mondadori Editore il settimanale Chi\, è stata poi a capo di Diva e donna\, periodico nato sempre da un suo progetto e pubblicato da Cairo Editore. Nel corso degli anni ha intervistato numerosi personaggi tra cui Gianni Versace\, Hillary Clinton\, Elizabeth Taylor\, George Clooney e Lady Diana Spencer. \n[/vc_column_text][/vc_column][/vc_row]
URL:https://www.consorziocostasmeralda.com/event/silvana-giacobini-porto-cervo-libri/
LOCATION:Sottopiazza\,\, Porto Cervo\, 07021\, SS\, Porto Cervo\, 07021\, Italia
CATEGORIES:Eventi 2023,Eventi Consorzio,Prossimi Eventi
ATTACH;FMTTYPE=image/jpeg:https://www.consorziocostasmeralda.com/wp-content/uploads/2023/06/segni-dellacqua.jpeg
END:VEVENT
BEGIN:VEVENT
DTSTART;TZID=UTC:20230715T220000
DTEND;TZID=UTC:20230715T235500
DTSTAMP:20260421T083109
CREATED:20230609T095109Z
LAST-MODIFIED:20230712T185205Z
UID:13612-1689458400-1689465300@www.consorziocostasmeralda.com
SUMMARY:Anna Tatangelo - Concerto
DESCRIPTION:[vc_row][vc_column][vc_column_text] \nDopo essersi aggiudicata alcuni concorsi musicali\, tra cui l’Accademia della Canzone di Sanremo\, è diventata nota grazie alla vittoria del Festival di Sanremo 2002 nella sezione «Giovani»\, con il brano Doppiamente fragili. Ha inciso più di cento canzoni e pubblicato otto album d’inediti\, incidendo anche delle cover di celebri canzoni come Dio\, come ti amo\, Mamma\, Tu sì ‘na cosa grande e tante altre. Vanta otto partecipazioni al Festival di Sanremo\, fra cui una vittoria nella categoria Nuove proposte nel 2002 ed ha inoltre partecipato tre volte al Summer Festival con Muchacha\, Inafferrabile e Chiedere scusa. Ha vinto un Venice Music Awards\, un Wind Music Awards nel 2011 e il Premio Lunezia nel 2018\, vendendo oltre un milione di copie in Italia. \n[/vc_column_text][/vc_column][/vc_row]
URL:https://www.consorziocostasmeralda.com/event/anna-tatangelo-concerto/
LOCATION:Piazzetta Centrale – Porto Cervo\, Piazza Centrale\, 07021 Porto Cervo SS\, Porto Cervo\, 07021\, Italia
CATEGORIES:Eventi 2023,Eventi Consorzio,Prossimi Eventi
ATTACH;FMTTYPE=image/jpeg:https://www.consorziocostasmeralda.com/wp-content/uploads/2023/06/anna-tatangelo.jpg
END:VEVENT
BEGIN:VEVENT
DTSTART;TZID=UTC:20230720T190000
DTEND;TZID=UTC:20230720T203000
DTSTAMP:20260421T083109
CREATED:20230609T100729Z
LAST-MODIFIED:20230712T185350Z
UID:13616-1689879600-1689885000@www.consorziocostasmeralda.com
SUMMARY:Baby Laboratori con Trapezio
DESCRIPTION:[vc_row][vc_column][vc_column_text]Appuntamento per i più piccoli a Porto Cervo a cura della Compagnia Circo Maccus di Virginia Viviano[/vc_column_text][/vc_column][/vc_row]
URL:https://www.consorziocostasmeralda.com/event/evento-per-bambini/
LOCATION:Piazzetta della Marina\, Porto Cervo\, 07021\, SS\, Porto Cervo\, 07021\, Italia
CATEGORIES:Eventi 2023,Eventi Consorzio,Prossimi Eventi
ATTACH;FMTTYPE=image/jpeg:https://www.consorziocostasmeralda.com/wp-content/uploads/2022/05/PortoCervo_6.jpg
END:VEVENT
BEGIN:VEVENT
DTSTART;TZID=UTC:20230722T193000
DTEND;TZID=UTC:20230722T210000
DTSTAMP:20260421T083109
CREATED:20230609T100830Z
LAST-MODIFIED:20230718T120142Z
UID:13867-1690054200-1690059600@www.consorziocostasmeralda.com
SUMMARY:Libro Cala di Volpe
DESCRIPTION:[vc_row][vc_column][vc_column_text] \nPresentazione nuovo libro Assouline  \n[/vc_column_text][/vc_column][/vc_row]
URL:https://www.consorziocostasmeralda.com/event/libro-cala-di-volpe/
LOCATION:Waterfront Costa Smeralda – Porto Cervo\, Via Porto Cervo\, 07021 Arzachena SS\, Porto Cervo\, 07021\, Italia
CATEGORIES:Eventi 2023,Eventi Consorzio,Prossimi Eventi
ATTACH;FMTTYPE=image/jpeg:https://www.consorziocostasmeralda.com/wp-content/uploads/2023/06/Waterfront2023-16.jpg
END:VEVENT
BEGIN:VEVENT
DTSTART;TZID=UTC:20230724T220000
DTEND;TZID=UTC:20230724T235500
DTSTAMP:20260421T083109
CREATED:20230609T104213Z
LAST-MODIFIED:20230712T190214Z
UID:13619-1690236000-1690242900@www.consorziocostasmeralda.com
SUMMARY:Gran Galà della Sardegna - Tazenda special guest
DESCRIPTION:[vc_row][vc_column][vc_column_text] \nIn piazzetta andranno in scena le tradizioni della Sardegna rappresentate da alcuni protagonisti della scena artistica del folclore isolano con i balli e le musiche tradizionali sarde\, intonate dai cori portabandiera della cultura popolare sarda. \nOspiti d’onore i Tazenda\, formazione musicale nata nel 1988 a opera di Andrea Parodi\, Gigi Carnedda e Gino Marielli. Sebbene cantino in dialetto sardo\, il nome scelto per il gruppo è tratto da un romanzo di Asimov ma scelto proprio per l’assonanza con i suoni della lingua sarda. L’isola e le sue tradizioni sono il fulcro dell’etno-pop-rock dei Tazenda. \n[/vc_column_text][/vc_column][/vc_row]
URL:https://www.consorziocostasmeralda.com/event/gran-gala-della-sardegna-tazenda/
LOCATION:Piazzetta Centrale – Porto Cervo\, Piazza Centrale\, 07021 Porto Cervo SS\, Porto Cervo\, 07021\, Italia
CATEGORIES:Eventi 2023,Eventi Consorzio,Prossimi Eventi
ATTACH;FMTTYPE=image/jpeg:https://www.consorziocostasmeralda.com/wp-content/uploads/2023/06/gran-gala-sardegna.jpg
END:VEVENT
BEGIN:VEVENT
DTSTART;TZID=UTC:20230728T190000
DTEND;TZID=UTC:20230728T203000
DTSTAMP:20260421T083109
CREATED:20230609T104336Z
LAST-MODIFIED:20230727T121935Z
UID:13946-1690570800-1690576200@www.consorziocostasmeralda.com
SUMMARY:Hope! Hope! Hoplà!
DESCRIPTION:[vc_row][vc_column][vc_column_text]Appuntamento per i più piccoli a Porto Cervo.[/vc_column_text][/vc_column][/vc_row]
URL:https://www.consorziocostasmeralda.com/event/hope-hope-hopla/
LOCATION:Piazzetta della Marina\, Porto Cervo\, 07021\, SS\, Porto Cervo\, 07021\, Italia
CATEGORIES:Eventi 2023,Eventi Consorzio,Prossimi Eventi
ATTACH;FMTTYPE=image/jpeg:https://www.consorziocostasmeralda.com/wp-content/uploads/2022/05/PortoCervo_6.jpg
END:VEVENT
BEGIN:VEVENT
DTSTART;TZID=UTC:20230731T220000
DTEND;TZID=UTC:20230731T235500
DTSTAMP:20260421T083109
CREATED:20230609T110236Z
LAST-MODIFIED:20230730T222912Z
UID:13626-1690840800-1690847700@www.consorziocostasmeralda.com
SUMMARY:Roberto Vecchioni - Concerto per l’assemblea dei consorziati
DESCRIPTION:[vc_row][vc_column][vc_column_text] \nConcerto Assemblea Consorzio Costa Smeralda \n[/vc_column_text][/vc_column][/vc_row]
URL:https://www.consorziocostasmeralda.com/event/roberto-vecchioni-concerto-assemblea-consorziati/
LOCATION:Conference Center-Porto Cervo\, Via Porto Vecchio\, 07021 Porto Cervo OT\, Porto Cervo\, 07021\, Italia
CATEGORIES:Eventi 2023,Eventi Consorzio,Prossimi Eventi
ATTACH;FMTTYPE=image/jpeg:https://www.consorziocostasmeralda.com/wp-content/uploads/2023/06/vecchioni-1.jpg
END:VEVENT
END:VCALENDAR