BEGIN:VCALENDAR
VERSION:2.0
PRODID:-//Consorzio Costa Smeralda - ECPv6.15.20//NONSGML v1.0//EN
CALSCALE:GREGORIAN
METHOD:PUBLISH
X-ORIGINAL-URL:https://www.consorziocostasmeralda.com
X-WR-CALDESC:Eventi per Consorzio Costa Smeralda
REFRESH-INTERVAL;VALUE=DURATION:PT1H
X-Robots-Tag:noindex
X-PUBLISHED-TTL:PT1H
BEGIN:VTIMEZONE
TZID:UTC
BEGIN:STANDARD
TZOFFSETFROM:+0000
TZOFFSETTO:+0000
TZNAME:UTC
DTSTART:20250101T000000
END:STANDARD
END:VTIMEZONE
BEGIN:VEVENT
DTSTART;TZID=UTC:20260418T173000
DTEND;TZID=UTC:20260418T190000
DTSTAMP:20260422T120729
CREATED:20260414T110918Z
LAST-MODIFIED:20260414T111202Z
UID:19215-1776533400-1776538800@www.consorziocostasmeralda.com
SUMMARY:Premio Costa Smeralda 2026
DESCRIPTION:[vc_row][vc_column][vc_column_text css=””]Premio Costa Smeralda 2026 \nLa cerimonia del Premio Costa Smeralda in programma il 18 aprile alle 17:30 al Conference Center. \n[/vc_column_text][/vc_column][/vc_row]
URL:https://www.consorziocostasmeralda.com/event/premio-costa-smeralda-2026/
LOCATION:Conference Center-Porto Cervo\, Via Porto Vecchio\, 07021 Porto Cervo OT\, Porto Cervo\, 07021\, Italia
CATEGORIES:Eventi 2026,Eventi Consorzio,Prossimi Eventi
ATTACH;FMTTYPE=image/jpeg:https://www.consorziocostasmeralda.com/wp-content/uploads/2026/04/premio-costa-smeralda-2026-28-scaled-e1776164794187.jpg
END:VEVENT
END:VCALENDAR