BEGIN:VCALENDAR
VERSION:2.0
PRODID:-//Consorzio Costa Smeralda - ECPv6.15.20//NONSGML v1.0//EN
CALSCALE:GREGORIAN
METHOD:PUBLISH
X-ORIGINAL-URL:https://www.consorziocostasmeralda.com
X-WR-CALDESC:Eventi per Consorzio Costa Smeralda
REFRESH-INTERVAL;VALUE=DURATION:PT1H
X-Robots-Tag:noindex
X-PUBLISHED-TTL:PT1H
BEGIN:VTIMEZONE
TZID:UTC
BEGIN:STANDARD
TZOFFSETFROM:+0000
TZOFFSETTO:+0000
TZNAME:UTC
DTSTART:20250101T000000
END:STANDARD
END:VTIMEZONE
BEGIN:VEVENT
DTSTART;TZID=UTC:20260106T170000
DTEND;TZID=UTC:20260106T190000
DTSTAMP:20260420T164421
CREATED:20251121T233829Z
LAST-MODIFIED:20251202T092518Z
UID:18882-1767718800-1767726000@www.consorziocostasmeralda.com
SUMMARY:La Befana con le caramelle e il carbone
DESCRIPTION:[vc_row][vc_column][vc_column_text css=””] \nFinale nel segno della Befana che martedì 6 gennaio alle ore 17:30 si materializzerà per la gioia dei più piccoli distribuendo caramelle e carbone mentre la chiusura alle ore 18:30 è affidata al crooner Luigi Fontana\, figlio d’arte\, cantante\, compositore\, pianista e discografico attivo tra l’Italia e gli Stati Uniti\, reduce dall’ottima partecipazione a The Voice Senior su Rai 1\, che intonerà tanti successi italiani e stranieri oltre ad alcune canzoni dell’indimenticato padre Jimmy Fontana. \n17:00 – Apertura Mercatini\n17:30 – Arrivo Befana con caramelle e carbone\n18:30 – Live Music; Luigi Fontana\n19:00 – Cena ai Mercatini di Natale \n[/vc_column_text][/vc_column][/vc_row]
URL:https://www.consorziocostasmeralda.com/event/befana-2026/
LOCATION:Porto Cervo\, Porto Cervo\, 07021\, SS\, Porto Cervo\, 07021\, Italia
CATEGORIES:Eventi 2026,Eventi Consorzio,Prossimi Eventi
ATTACH;FMTTYPE=image/jpeg:https://www.consorziocostasmeralda.com/wp-content/uploads/2023/12/natale-porto-cervo-3.jpg
END:VEVENT
END:VCALENDAR