BEGIN:VCALENDAR
VERSION:2.0
PRODID:-//Consorzio Costa Smeralda - ECPv6.15.20//NONSGML v1.0//EN
CALSCALE:GREGORIAN
METHOD:PUBLISH
X-ORIGINAL-URL:https://www.consorziocostasmeralda.com
X-WR-CALDESC:Eventi per Consorzio Costa Smeralda
REFRESH-INTERVAL;VALUE=DURATION:PT1H
X-Robots-Tag:noindex
X-PUBLISHED-TTL:PT1H
BEGIN:VTIMEZONE
TZID:UTC
BEGIN:STANDARD
TZOFFSETFROM:+0000
TZOFFSETTO:+0000
TZNAME:UTC
DTSTART:20250101T000000
END:STANDARD
END:VTIMEZONE
BEGIN:VEVENT
DTSTART;TZID=UTC:20260104T170000
DTEND;TZID=UTC:20260104T190000
DTSTAMP:20260420T183830
CREATED:20251118T233243Z
LAST-MODIFIED:20251202T090942Z
UID:18878-1767546000-1767553200@www.consorziocostasmeralda.com
SUMMARY:Doc Sound live
DESCRIPTION:[vc_row][vc_column][vc_column_text css=””] \nDomenica 4 gennaio alle ore 18 andrà in scena la grande musica a Porto Cervo con i Doc Sound. \n17:00 – Apertura Mercatini\n18:00 – Live Music: Doc Sound\n19:00 – Cena ai Mercatini di Natale[/vc_column_text][/vc_column][/vc_row]
URL:https://www.consorziocostasmeralda.com/event/doc-sound-live/
LOCATION:Porto Cervo\, Porto Cervo\, 07021\, SS\, Porto Cervo\, 07021\, Italia
CATEGORIES:Eventi 2026,Eventi Consorzio,Prossimi Eventi
ATTACH;FMTTYPE=image/jpeg:https://www.consorziocostasmeralda.com/wp-content/uploads/2023/12/natale-porto-cervo-1.jpg
END:VEVENT
END:VCALENDAR