BEGIN:VCALENDAR
VERSION:2.0
PRODID:-//Consorzio Costa Smeralda - ECPv6.15.20//NONSGML v1.0//EN
CALSCALE:GREGORIAN
METHOD:PUBLISH
X-WR-CALNAME:Consorzio Costa Smeralda
X-ORIGINAL-URL:https://www.consorziocostasmeralda.com
X-WR-CALDESC:Eventi per Consorzio Costa Smeralda
REFRESH-INTERVAL;VALUE=DURATION:PT1H
X-Robots-Tag:noindex
X-PUBLISHED-TTL:PT1H
BEGIN:VTIMEZONE
TZID:UTC
BEGIN:STANDARD
TZOFFSETFROM:+0000
TZOFFSETTO:+0000
TZNAME:UTC
DTSTART:20250101T000000
END:STANDARD
END:VTIMEZONE
BEGIN:VEVENT
DTSTART;TZID=UTC:20260103T170000
DTEND;TZID=UTC:20260103T190000
DTSTAMP:20260420T164321
CREATED:20251118T232749Z
LAST-MODIFIED:20251202T090841Z
UID:18876-1767459600-1767466800@www.consorziocostasmeralda.com
SUMMARY:Santa Fe e la Festa in maschera in concerto
DESCRIPTION:[vc_row][vc_column][vc_column_text css=””] \nSabato 3 gennaio si terrà il concerto dei Santa Fe e la Festa in maschera organizzata dall’Associazione Porto Cervo: divertimento assicurato e moltissime sorprese per una serata originale e ricca di colpi di scena. \n17:00 – Apertura Mercatini\n18:00 \n\nBowtie Circus\, spettaoclo itinerante\, trampolieri\,\nLive Music: Santa Fe\, Festa in Maschera\, a cura di Associazione Porto Cervo\n\n19:00 – Cena ai Mercatini di Natale[/vc_column_text][/vc_column][/vc_row]
URL:https://www.consorziocostasmeralda.com/event/santa-fe-festa-in-maschera/
LOCATION:Porto Cervo\, Porto Cervo\, 07021\, SS\, Porto Cervo\, 07021\, Italia
CATEGORIES:Eventi 2026,Eventi Consorzio,Prossimi Eventi
ATTACH;FMTTYPE=image/jpeg:https://www.consorziocostasmeralda.com/wp-content/uploads/2023/12/natale-porto-cervo-1.jpg
END:VEVENT
END:VCALENDAR