BEGIN:VCALENDAR
VERSION:2.0
PRODID:-//Consorzio Costa Smeralda - ECPv6.15.20//NONSGML v1.0//EN
CALSCALE:GREGORIAN
METHOD:PUBLISH
X-WR-CALNAME:Consorzio Costa Smeralda
X-ORIGINAL-URL:https://www.consorziocostasmeralda.com
X-WR-CALDESC:Eventi per Consorzio Costa Smeralda
REFRESH-INTERVAL;VALUE=DURATION:PT1H
X-Robots-Tag:noindex
X-PUBLISHED-TTL:PT1H
BEGIN:VTIMEZONE
TZID:UTC
BEGIN:STANDARD
TZOFFSETFROM:+0000
TZOFFSETTO:+0000
TZNAME:UTC
DTSTART:20250101T000000
END:STANDARD
END:VTIMEZONE
BEGIN:VEVENT
DTSTART;TZID=UTC:20260102T170000
DTEND;TZID=UTC:20260102T190000
DTSTAMP:20260420T164339
CREATED:20251116T232213Z
LAST-MODIFIED:20251202T090750Z
UID:18873-1767373200-1767380400@www.consorziocostasmeralda.com
SUMMARY:Magia natalizia\, fire show e tante emozioni a Porto Cervo
DESCRIPTION:[vc_row][vc_column][vc_column_text css=””] \nVenerdì 2 gennaio alle ore 18 il meglio dell’animazione con spettacolo di magia natalizia\, fire show e tante attrazioni. Subito dopo alle ore 18:30 ci sarà il concerto della MI LA BAND con tante canzoni e celebri melodie anni ’80 e ’90. \n17:00 – Apertura Mercatini \n18:00 – Spettacoli di Magia Natalizia\, Danza con il Fuoco\, Giocoleria e molto altro \n18:30 – Live Music: MI-LA Band \n19:00 – Cena ai Mercatini di Natale \n[/vc_column_text][/vc_column][/vc_row]
URL:https://www.consorziocostasmeralda.com/event/magia-natalizia-fire-show-porto-cervo/
LOCATION:Porto Cervo\, Porto Cervo\, 07021\, SS\, Porto Cervo\, 07021\, Italia
CATEGORIES:Eventi 2026,Eventi Consorzio,Prossimi Eventi
ATTACH;FMTTYPE=image/jpeg:https://www.consorziocostasmeralda.com/wp-content/uploads/2023/12/natale-porto-cervo-16.jpg
END:VEVENT
END:VCALENDAR