BEGIN:VCALENDAR
VERSION:2.0
PRODID:-//Consorzio Costa Smeralda - ECPv6.15.20//NONSGML v1.0//EN
CALSCALE:GREGORIAN
METHOD:PUBLISH
X-ORIGINAL-URL:https://www.consorziocostasmeralda.com
X-WR-CALDESC:Eventi per Consorzio Costa Smeralda
REFRESH-INTERVAL;VALUE=DURATION:PT1H
X-Robots-Tag:noindex
X-PUBLISHED-TTL:PT1H
BEGIN:VTIMEZONE
TZID:UTC
BEGIN:STANDARD
TZOFFSETFROM:+0000
TZOFFSETTO:+0000
TZNAME:UTC
DTSTART:20240101T000000
END:STANDARD
END:VTIMEZONE
BEGIN:VEVENT
DTSTART;TZID=UTC:20251227T170000
DTEND;TZID=UTC:20251227T193000
DTSTAMP:20260420T183958
CREATED:20251113T230107Z
LAST-MODIFIED:20251202T092342Z
UID:18867-1766854800-1766863800@www.consorziocostasmeralda.com
SUMMARY:I Ricchi e Poveri live a Porto Cervo
DESCRIPTION:[vc_row][vc_column][vc_column_text css=””] \nSabato 27 dicembre serata clou in piazzetta centrale. Alle 19:30 ci sarà un’attesissima esibizione. I Ricchi e Poveri torneranno dopo tanti anni a Porto Cervo per un live natalizio che richiamerà appassionati e turisti da ogni dove. \n17:00 – Apertura Mercatini\n17:45 – Bianche Presenze\, trampolieri e mangiafuoco\n19:00 – Cena ai Mercatini di Natale\n19:30 – Concerto Live Piazzetta Centrale: I Ricchi e Poveri[/vc_column_text][/vc_column][/vc_row]
URL:https://www.consorziocostasmeralda.com/event/ricchi-e-poveri-live-porto-cervo/
LOCATION:Porto Cervo\, Porto Cervo\, 07021\, SS\, Porto Cervo\, 07021\, Italia
CATEGORIES:Eventi 2025,Eventi Consorzio,Prossimi Eventi
ATTACH;FMTTYPE=image/jpeg:https://www.consorziocostasmeralda.com/wp-content/uploads/2023/12/natale-porto-cervo-3.jpg
END:VEVENT
END:VCALENDAR