BEGIN:VCALENDAR
VERSION:2.0
PRODID:-//Consorzio Costa Smeralda - ECPv6.15.20//NONSGML v1.0//EN
CALSCALE:GREGORIAN
METHOD:PUBLISH
X-ORIGINAL-URL:https://www.consorziocostasmeralda.com
X-WR-CALDESC:Eventi per Consorzio Costa Smeralda
REFRESH-INTERVAL;VALUE=DURATION:PT1H
X-Robots-Tag:noindex
X-PUBLISHED-TTL:PT1H
BEGIN:VTIMEZONE
TZID:UTC
BEGIN:STANDARD
TZOFFSETFROM:+0000
TZOFFSETTO:+0000
TZNAME:UTC
DTSTART:20240101T000000
END:STANDARD
END:VTIMEZONE
BEGIN:VEVENT
DTSTART;TZID=UTC:20251222T170000
DTEND;TZID=UTC:20251222T190000
DTSTAMP:20260420T203621
CREATED:20251111T225534Z
LAST-MODIFIED:20251201T225752Z
UID:18863-1766422800-1766430000@www.consorziocostasmeralda.com
SUMMARY:Crêuza De Mä: tributo a Fabrizio De Andrè
DESCRIPTION:[vc_row][vc_column][vc_column_text css=””] \nUltimo appuntamento prima di Natale lunedì 22 dicembre con la stupenda musica di Fabrizio De Andrè proposta dalla tribute band sarda “Creuza de Ma”. \n17:00 – Apertura Mercatini\n18:00 – Live Music: band Crêuza De Mä Tributo a Fabrizio De Andrè\n19:00 – Cena ai Mercatini di Natale[/vc_column_text][/vc_column][/vc_row]
URL:https://www.consorziocostasmeralda.com/event/creuza-de-ma-tributo-a-fabrizio-de-andre/
LOCATION:Porto Cervo\, Porto Cervo\, 07021\, SS\, Porto Cervo\, 07021\, Italia
CATEGORIES:Eventi 2025,Eventi Consorzio,Prossimi Eventi
ATTACH;FMTTYPE=image/jpeg:https://www.consorziocostasmeralda.com/wp-content/uploads/2023/12/natale-porto-cervo-1.jpg
END:VEVENT
END:VCALENDAR