BEGIN:VCALENDAR
VERSION:2.0
PRODID:-//Consorzio Costa Smeralda - ECPv6.15.20//NONSGML v1.0//EN
CALSCALE:GREGORIAN
METHOD:PUBLISH
X-WR-CALNAME:Consorzio Costa Smeralda
X-ORIGINAL-URL:https://www.consorziocostasmeralda.com
X-WR-CALDESC:Eventi per Consorzio Costa Smeralda
REFRESH-INTERVAL;VALUE=DURATION:PT1H
X-Robots-Tag:noindex
X-PUBLISHED-TTL:PT1H
BEGIN:VTIMEZONE
TZID:UTC
BEGIN:STANDARD
TZOFFSETFROM:+0000
TZOFFSETTO:+0000
TZNAME:UTC
DTSTART:20240101T000000
END:STANDARD
END:VTIMEZONE
BEGIN:VEVENT
DTSTART;TZID=UTC:20251221T170000
DTEND;TZID=UTC:20251221T190000
DTSTAMP:20260420T183650
CREATED:20251109T225032Z
LAST-MODIFIED:20251202T092103Z
UID:18861-1766336400-1766343600@www.consorziocostasmeralda.com
SUMMARY:Le "Invasioni Lunari" della compagnia Parola Bianca
DESCRIPTION:[vc_row][vc_column][vc_column_text css=””] \nDomenica 21 dicembre l’animazione inizierà alle ore 18 con lo spettacolo della compagnia Parola Bianca che proporrà “Invasioni lunari”\, mentre alle 18:30 sarà protagonista la musica lirica. Quattro voci sono le voci liriche dei talenti isolani accompagnate dal quintetto d’archi e pianoforte nell’interpretazione di alcune famose arie d’opera e celebri canzoni natalizie. \n17:00 – Apertura Mercatini \n18:00 – Parola Bianca\, spettacolo Invasioni Lunari \n18:30 – Live Music: Concert Lirico\, 2 tenori\, 5 archi e pianoforte\, arie natalizie di Verdi\, Rossini\, Mozart. \n19:00 – Cena ai Mercatini di Natale \n[/vc_column_text][/vc_column][/vc_row]
URL:https://www.consorziocostasmeralda.com/event/le-invasioni-lunari-della-compagnia-parola-bianca/
LOCATION:Porto Cervo\, Porto Cervo\, 07021\, SS\, Porto Cervo\, 07021\, Italia
CATEGORIES:Eventi 2025,Eventi Consorzio,Prossimi Eventi
ATTACH;FMTTYPE=image/jpeg:https://www.consorziocostasmeralda.com/wp-content/uploads/2023/12/natale-porto-cervo-17.jpg
END:VEVENT
END:VCALENDAR