BEGIN:VCALENDAR
VERSION:2.0
PRODID:-//Consorzio Costa Smeralda - ECPv6.15.20//NONSGML v1.0//EN
CALSCALE:GREGORIAN
METHOD:PUBLISH
X-WR-CALNAME:Consorzio Costa Smeralda
X-ORIGINAL-URL:https://www.consorziocostasmeralda.com
X-WR-CALDESC:Eventi per Consorzio Costa Smeralda
REFRESH-INTERVAL;VALUE=DURATION:PT1H
X-Robots-Tag:noindex
X-PUBLISHED-TTL:PT1H
BEGIN:VTIMEZONE
TZID:UTC
BEGIN:STANDARD
TZOFFSETFROM:+0000
TZOFFSETTO:+0000
TZNAME:UTC
DTSTART:20240101T000000
END:STANDARD
END:VTIMEZONE
BEGIN:VEVENT
DTSTART;TZID=UTC:20251220T170000
DTEND;TZID=UTC:20251220T193000
DTSTAMP:20260420T183628
CREATED:20251107T224451Z
LAST-MODIFIED:20251202T092024Z
UID:18859-1766250000-1766259000@www.consorziocostasmeralda.com
SUMMARY:Musica e danza a Porto Cervo
DESCRIPTION:[vc_row][vc_column][vc_column_text css=””] \nSabato 20 dicembre alle 18:45 in scena la scuola di danza Aristea di Arzachena con il balletto classico e tanti giovani talenti della danza\, a seguire alle 19.15 il Circolander di Priamo e Shamira Casu\, l’ultimo Circo Sardo con acrobati\, clown\, musica\, baby dance\, popcorn e zucchero filato. \nA chiudere la serata alle 19:30 ci penserà la straordinaria voce di Eleonora Dolcevita\, in un concerto alla vigilia dell’uscita del suo ultimo singolo natalizio prodotto da Tony Renis e Tony Labriola. \n17:00 – Apertura Mercatini\n18:45 – Danza Aristea Arzachena\, Balletto Danza Classica\n19:15 – Circolander\, ultimo circo sardo\, giocolieri\, musica\, zucchero filato e pop corn\n19:30 \n\nCena ai Mercatini di Natale\nLive Music: Eleonora de La Dolce Vita\, viaggio nei capolavori della musica italiana internazionale\n\n[/vc_column_text][/vc_column][/vc_row]
URL:https://www.consorziocostasmeralda.com/event/musica-e-danza-a-porto-cervo/
LOCATION:Porto Cervo\, Porto Cervo\, 07021\, SS\, Porto Cervo\, 07021\, Italia
CATEGORIES:Eventi 2025,Eventi Consorzio,Prossimi Eventi
ATTACH;FMTTYPE=image/jpeg:https://www.consorziocostasmeralda.com/wp-content/uploads/2023/12/natale-porto-cervo-16.jpg
END:VEVENT
END:VCALENDAR