BEGIN:VCALENDAR
VERSION:2.0
PRODID:-//Consorzio Costa Smeralda - ECPv6.15.20//NONSGML v1.0//EN
CALSCALE:GREGORIAN
METHOD:PUBLISH
X-ORIGINAL-URL:https://www.consorziocostasmeralda.com
X-WR-CALDESC:Eventi per Consorzio Costa Smeralda
REFRESH-INTERVAL;VALUE=DURATION:PT1H
X-Robots-Tag:noindex
X-PUBLISHED-TTL:PT1H
BEGIN:VTIMEZONE
TZID:UTC
BEGIN:STANDARD
TZOFFSETFROM:+0000
TZOFFSETTO:+0000
TZNAME:UTC
DTSTART:20240101T000000
END:STANDARD
END:VTIMEZONE
BEGIN:VEVENT
DTSTART;TZID=UTC:20251214T170000
DTEND;TZID=UTC:20251214T210000
DTSTAMP:20260420T183957
CREATED:20251104T222639Z
LAST-MODIFIED:20251201T223043Z
UID:18852-1765731600-1765746000@www.consorziocostasmeralda.com
SUMMARY:Le canzoni iconiche degli Abba a Porto Cervo
DESCRIPTION:[vc_row][vc_column][vc_column_text css=””] \nDomenica 14 dicembre l’ultima serata del primo weekend della kermesse sarà affidata al gruppo “Abba Dream” che interpreterà le più belle canzoni del celebre gruppo svedese in un appuntamento che risveglierà tanti ricordi degli appassionati degli “Abba”. \n17:00 – Apertura Mercatini\n18:00 – Live Music: Abba Tribute Band\n19:00 – Cena ai Mercatini di Natale \n[/vc_column_text][/vc_column][/vc_row]
URL:https://www.consorziocostasmeralda.com/event/abba-porto-cervo/
LOCATION:Porto Cervo\, Porto Cervo\, 07021\, SS\, Porto Cervo\, 07021\, Italia
CATEGORIES:Eventi 2025,Eventi Consorzio,Prossimi Eventi
ATTACH;FMTTYPE=image/jpeg:https://www.consorziocostasmeralda.com/wp-content/uploads/2023/12/natale-porto-cervo-1.jpg
END:VEVENT
END:VCALENDAR