BEGIN:VCALENDAR
VERSION:2.0
PRODID:-//Consorzio Costa Smeralda - ECPv6.15.20//NONSGML v1.0//EN
CALSCALE:GREGORIAN
METHOD:PUBLISH
X-ORIGINAL-URL:https://www.consorziocostasmeralda.com
X-WR-CALDESC:Eventi per Consorzio Costa Smeralda
REFRESH-INTERVAL;VALUE=DURATION:PT1H
X-Robots-Tag:noindex
X-PUBLISHED-TTL:PT1H
BEGIN:VTIMEZONE
TZID:UTC
BEGIN:STANDARD
TZOFFSETFROM:+0000
TZOFFSETTO:+0000
TZNAME:UTC
DTSTART:20240101T000000
END:STANDARD
END:VTIMEZONE
BEGIN:VEVENT
DTSTART;TZID=UTC:20251211T170000
DTEND;TZID=UTC:20251211T210000
DTSTAMP:20260420T183957
CREATED:20251101T220841Z
LAST-MODIFIED:20251201T222536Z
UID:18846-1765472400-1765486800@www.consorziocostasmeralda.com
SUMMARY:Il concerto di Josmil Neris Christmas Quartet e Francesco Bearzatti
DESCRIPTION:[vc_row][vc_column][vc_column_text css=””] \nL’11 dicembre alle 18 appuntamento con il quartetto di Josmil Neris. \nOriginaria di Santo Domingo\, Repubblica Dominicana\, Josmil Neris è una cantante e autrice dalla voce ricca e avvolgente. Ha definito uno stile raffinato e una forte presenza scenica che l’hanno portata ad esibirsi in Italia e all’estero (Florida\, Francia\, Germania\, Cipro\, Mauritius) collaborando con grandi nomi del jazz italiano\, come il sassofonista Francesco Bearzatti che sarà presente come super ospite nel concerto smeraldino. \n17:00 – Apertura Mercatini \n18:00 -Josmil Neris Christmas Quartet – ft. Francesco Bearzatti \n19:00 -Cena ai Mercatini di Natale[/vc_column_text][/vc_column][/vc_row]
URL:https://www.consorziocostasmeralda.com/event/josmil-neris-christmas-quartet-e-francesco-bearzatti/
LOCATION:Porto Cervo\, Porto Cervo\, 07021\, SS\, Porto Cervo\, 07021\, Italia
CATEGORIES:Eventi 2025,Eventi Consorzio,Prossimi Eventi
ATTACH;FMTTYPE=image/jpeg:https://www.consorziocostasmeralda.com/wp-content/uploads/2023/12/natale-porto-cervo-9.jpg
END:VEVENT
END:VCALENDAR