BEGIN:VCALENDAR
VERSION:2.0
PRODID:-//Consorzio Costa Smeralda - ECPv6.15.20//NONSGML v1.0//EN
CALSCALE:GREGORIAN
METHOD:PUBLISH
X-ORIGINAL-URL:https://www.consorziocostasmeralda.com
X-WR-CALDESC:Eventi per Consorzio Costa Smeralda
REFRESH-INTERVAL;VALUE=DURATION:PT1H
X-Robots-Tag:noindex
X-PUBLISHED-TTL:PT1H
BEGIN:VTIMEZONE
TZID:UTC
BEGIN:STANDARD
TZOFFSETFROM:+0000
TZOFFSETTO:+0000
TZNAME:UTC
DTSTART:20240101T000000
END:STANDARD
END:VTIMEZONE
BEGIN:VEVENT
DTSTART;TZID=UTC:20250830T193000
DTEND;TZID=UTC:20250830T213000
DTSTAMP:20260421T022651
CREATED:20250514T095644Z
LAST-MODIFIED:20250707T153611Z
UID:17625-1756582200-1756589400@www.consorziocostasmeralda.com
SUMMARY:Porto Cervo Libri - Giuseppe Scarpa
DESCRIPTION:[vc_row][vc_column][vc_column_text css=””] \nPorto Cervo Libri – Giuseppe Scarpa \nIl giornalista gallurese Giuseppe Scarpa (redattore sardo di Repubblica) presenta Roma criminale\, Edizioni Newton Compton. Modera Davide Mosca\, direttore di olbianotizie.it \n[/vc_column_text][/vc_column][/vc_row]
URL:https://www.consorziocostasmeralda.com/event/porto-cervo-libri-giuseppe-scarpa/
LOCATION:Sottopiazza Spiaggietta – Porto Cervo\, Sottopiazza\, 07021 Porto Cervo SS\, Porto Cervo\, 07021\, Italia
CATEGORIES:Eventi 2025,Eventi Consorzio,Prossimi Eventi
ATTACH;FMTTYPE=image/jpeg:https://www.consorziocostasmeralda.com/wp-content/uploads/2024/06/porto-cervo-2.jpeg
END:VEVENT
END:VCALENDAR