BEGIN:VCALENDAR
VERSION:2.0
PRODID:-//Consorzio Costa Smeralda - ECPv6.15.20//NONSGML v1.0//EN
CALSCALE:GREGORIAN
METHOD:PUBLISH
X-WR-CALNAME:Consorzio Costa Smeralda
X-ORIGINAL-URL:https://www.consorziocostasmeralda.com
X-WR-CALDESC:Eventi per Consorzio Costa Smeralda
REFRESH-INTERVAL;VALUE=DURATION:PT1H
X-Robots-Tag:noindex
X-PUBLISHED-TTL:PT1H
BEGIN:VTIMEZONE
TZID:UTC
BEGIN:STANDARD
TZOFFSETFROM:+0000
TZOFFSETTO:+0000
TZNAME:UTC
DTSTART:20240101T000000
END:STANDARD
END:VTIMEZONE
BEGIN:VEVENT
DTSTART;TZID=UTC:20250825T220000
DTEND;TZID=UTC:20250825T233000
DTSTAMP:20260421T022238
CREATED:20250507T094810Z
LAST-MODIFIED:20250619T095214Z
UID:17621-1756159200-1756164600@www.consorziocostasmeralda.com
SUMMARY:Neri per caso Live
DESCRIPTION:[vc_row][vc_column][vc_column_text css=””] \nConcerto dei Neri per caso  \nIl gruppo musicale a cappella di Salerno è pronto a esibirsi a Porto Cervo. Il concerto rientra nel ricco cartellone dell’estate 2025. \n[/vc_column_text][/vc_column][/vc_row]
URL:https://www.consorziocostasmeralda.com/event/neri-per-caso-live/
LOCATION:Piazzetta Centrale – Porto Cervo\, Piazza Centrale\, 07021 Porto Cervo SS\, Porto Cervo\, 07021\, Italia
CATEGORIES:Eventi 2025,Eventi Consorzio,Prossimi Eventi
ATTACH;FMTTYPE=image/jpeg:https://www.consorziocostasmeralda.com/wp-content/uploads/2024/06/porto-cervo-2.jpeg
END:VEVENT
END:VCALENDAR