BEGIN:VCALENDAR
VERSION:2.0
PRODID:-//Consorzio Costa Smeralda - ECPv6.15.20//NONSGML v1.0//EN
CALSCALE:GREGORIAN
METHOD:PUBLISH
X-ORIGINAL-URL:https://www.consorziocostasmeralda.com
X-WR-CALDESC:Eventi per Consorzio Costa Smeralda
REFRESH-INTERVAL;VALUE=DURATION:PT1H
X-Robots-Tag:noindex
X-PUBLISHED-TTL:PT1H
BEGIN:VTIMEZONE
TZID:UTC
BEGIN:STANDARD
TZOFFSETFROM:+0000
TZOFFSETTO:+0000
TZNAME:UTC
DTSTART:20240101T000000
END:STANDARD
END:VTIMEZONE
BEGIN:VEVENT
DTSTART;TZID=UTC:20250810T220000
DTEND;TZID=UTC:20250810T233000
DTSTAMP:20260421T022543
CREATED:20250414T085424Z
LAST-MODIFIED:20250728T152100Z
UID:17605-1754863200-1754868600@www.consorziocostasmeralda.com
SUMMARY:Duo Baldo e Maria Luigia Borsi
DESCRIPTION:[vc_row][vc_column][vc_column_text css=””]A Porto Cervo il talento e l’eleganza del soprano Maria Luigia Borsi\, e l’effervescenza del Duo Baldo in un concerto che è allo stesso tempo un incontro tra musica e divertimento.\nLa qualità artistica e il virtuosismo dei tre interpreti è garanzia della qualità musicale\, e la loro voglia di giocare sul palcoscenico\, con gusto e ironia\, propone un modo di accostarsi al mondo della musica classica aperto a grandi e piccini.[/vc_column_text][/vc_column][/vc_row]
URL:https://www.consorziocostasmeralda.com/event/duo-baldo-e-maria-luigia-borsi/
LOCATION:Piazzetta centrale\, Liscia di Vacca\, Piazza Centrale\, 07021 Porto Cervo SS\, Porto Cervo\, 07021\, Italia
CATEGORIES:Eventi 2025,Eventi Consorzio,Prossimi Eventi
ATTACH;FMTTYPE=image/jpeg:https://www.consorziocostasmeralda.com/wp-content/uploads/2025/04/base-evento-dx-1.jpg
END:VEVENT
END:VCALENDAR