BEGIN:VCALENDAR
VERSION:2.0
PRODID:-//Consorzio Costa Smeralda - ECPv6.15.20//NONSGML v1.0//EN
CALSCALE:GREGORIAN
METHOD:PUBLISH
X-WR-CALNAME:Consorzio Costa Smeralda
X-ORIGINAL-URL:https://www.consorziocostasmeralda.com
X-WR-CALDESC:Eventi per Consorzio Costa Smeralda
REFRESH-INTERVAL;VALUE=DURATION:PT1H
X-Robots-Tag:noindex
X-PUBLISHED-TTL:PT1H
BEGIN:VTIMEZONE
TZID:UTC
BEGIN:STANDARD
TZOFFSETFROM:+0000
TZOFFSETTO:+0000
TZNAME:UTC
DTSTART:20240101T000000
END:STANDARD
END:VTIMEZONE
BEGIN:VEVENT
DTSTART;TZID=UTC:20250726T053000
DTEND;TZID=UTC:20250726T070000
DTSTAMP:20260422T211907
CREATED:20250328T081804Z
LAST-MODIFIED:20250619T085738Z
UID:17588-1753507800-1753513200@www.consorziocostasmeralda.com
SUMMARY:Concerto all'Alba
DESCRIPTION:[vc_row][vc_column][vc_column_text css=””] \nConcerto all’Alba \nTorna l’abituale ed emozionante appuntamento del concerto all’alba. Un evento tra i più attesi della stagione a Porto Cervo.[/vc_column_text][/vc_column][/vc_row]
URL:https://www.consorziocostasmeralda.com/event/concerto-alba-2025/
LOCATION:Spiaggia Capriccioli\, Località Capriccioli\, 07021 Arzachena SS\, Porto Cervo\, 07021\, Italia
CATEGORIES:Eventi 2025,Eventi Consorzio,Prossimi Eventi
ATTACH;FMTTYPE=image/jpeg:https://www.consorziocostasmeralda.com/wp-content/uploads/2024/06/porto-cervo-2.jpeg
END:VEVENT
END:VCALENDAR