BEGIN:VCALENDAR
VERSION:2.0
PRODID:-//Consorzio Costa Smeralda - ECPv6.15.20//NONSGML v1.0//EN
CALSCALE:GREGORIAN
METHOD:PUBLISH
X-WR-CALNAME:Consorzio Costa Smeralda
X-ORIGINAL-URL:https://www.consorziocostasmeralda.com
X-WR-CALDESC:Eventi per Consorzio Costa Smeralda
REFRESH-INTERVAL;VALUE=DURATION:PT1H
X-Robots-Tag:noindex
X-PUBLISHED-TTL:PT1H
BEGIN:VTIMEZONE
TZID:UTC
BEGIN:STANDARD
TZOFFSETFROM:+0000
TZOFFSETTO:+0000
TZNAME:UTC
DTSTART:20240101T000000
END:STANDARD
END:VTIMEZONE
BEGIN:VEVENT
DTSTART;TZID=UTC:20250723T193000
DTEND;TZID=UTC:20250723T213000
DTSTAMP:20260422T173719
CREATED:20250327T075653Z
LAST-MODIFIED:20250715T060719Z
UID:17586-1753299000-1753306200@www.consorziocostasmeralda.com
SUMMARY:Porto Cervo Libri – Eleonora Vallone e Fulvio Abbate
DESCRIPTION:[vc_row][vc_column][vc_column_text css=””] \nPorto Cervo Libri – Fulvio Abbate ed Eleonora Vallone \nIl celebre scrittore Fulvio Abbate e la figlia di Raf Vallone Eleonora Vallone presentano  Quante vite per una? Le mie sette vite\, Edizioni Castelvecchi. Modera la giornalista e scrittrice Irene Bozzi Vecchioni.[/vc_column_text][/vc_column][/vc_row]
URL:https://www.consorziocostasmeralda.com/event/porto-cervo-libri-eleonora-vallone-e-fulvio-abbate/
LOCATION:Sottopiazza Spiaggietta – Porto Cervo\, Sottopiazza\, 07021 Porto Cervo SS\, Porto Cervo\, 07021\, Italia
CATEGORIES:Eventi 2025,Eventi Consorzio,Prossimi Eventi
ATTACH;FMTTYPE=image/jpeg:https://www.consorziocostasmeralda.com/wp-content/uploads/2024/06/porto-cervo-2.jpeg
END:VEVENT
END:VCALENDAR