BEGIN:VCALENDAR
VERSION:2.0
PRODID:-//Consorzio Costa Smeralda - ECPv6.15.20//NONSGML v1.0//EN
CALSCALE:GREGORIAN
METHOD:PUBLISH
X-ORIGINAL-URL:https://www.consorziocostasmeralda.com
X-WR-CALDESC:Eventi per Consorzio Costa Smeralda
REFRESH-INTERVAL;VALUE=DURATION:PT1H
X-Robots-Tag:noindex
X-PUBLISHED-TTL:PT1H
BEGIN:VTIMEZONE
TZID:UTC
BEGIN:STANDARD
TZOFFSETFROM:+0000
TZOFFSETTO:+0000
TZNAME:UTC
DTSTART:20240101T000000
END:STANDARD
END:VTIMEZONE
BEGIN:VEVENT
DTSTART;TZID=UTC:20250716T220000
DTEND;TZID=UTC:20250716T233000
DTSTAMP:20260422T080430
CREATED:20250319T073008Z
LAST-MODIFIED:20250715T141650Z
UID:17580-1752703200-1752708600@www.consorziocostasmeralda.com
SUMMARY:Annullati eventi 16 luglio 2025 per lutto
DESCRIPTION:[vc_row][vc_column][vc_column_text css=””]AVVISO. Annullati eventi 16 luglio 2025 per lutto  \nPorto Cervo\, 15 luglio 2025 – Il Consorzio Costa Smeralda ha disposto l’annullamento degli eventi previsti a Porto Cervo per domani\, mercoledì 16 luglio\, per lutto. \nCome segno di rispetto per i tragici eventi che hanno colpito la nostra comunità e quella della vicina Tempio Pausania\, a seguito degli incidenti in cui hanno perso la vita 3 giovani\, il Consorzio Costa Smeralda comunica l’annullamento del concerto previsto\nper mercoledì 16 luglio nella Piazzetta Centrale. \nAlle famiglie dei ragazzi\, a tutta la nostra comunità di Arzachena e della vicina cittadina di Tempio Pausania va il più sentito cordoglio da parte di tutto il Consorzio Costa Smeralda. \n———————————————————————————————————————————————————————————————————————– \nNOTICE. Events canceled on July 16\, 2025 due to mourning \nPorto Cervo\, July 15\, 2025 – The Consorzio Costa Smeralda has canceled the events scheduled to take place in Porto Cervo tomorrow\, Wednesday\, July 16\, due to mourning. \nAs a sign of respect for the tragic events that have struck our community and that of nearby Tempio Pausania\, following the accidents in which three young people lost their lives\, the Consorzio Costa Smeralda announces the cancellation of the concert scheduled for Wednesday\, July 16\, in the Piazzetta Centrale. \nThe entire Consorzio Costa Smeralda extends its deepest condolences to the families of the young people and to the entire community of Arzachena and the nearby town of Tempio Pausania.[/vc_column_text][/vc_column][/vc_row]
URL:https://www.consorziocostasmeralda.com/event/annullati-eventi-16-luglio-2025-per-lutto/
LOCATION:Piazza Centrale  –  Porto Cervo\, Piazza Centrale\, 07021 Porto Cervo SS\, Porto Cervo\, 07021\, Italia
CATEGORIES:Eventi 2025,Eventi Consorzio,Prossimi Eventi
ATTACH;FMTTYPE=image/jpeg:https://www.consorziocostasmeralda.com/wp-content/uploads/2024/06/porto-cervo-2.jpeg
END:VEVENT
END:VCALENDAR