BEGIN:VCALENDAR
VERSION:2.0
PRODID:-//Consorzio Costa Smeralda - ECPv6.15.20//NONSGML v1.0//EN
CALSCALE:GREGORIAN
METHOD:PUBLISH
X-ORIGINAL-URL:https://www.consorziocostasmeralda.com
X-WR-CALDESC:Eventi per Consorzio Costa Smeralda
REFRESH-INTERVAL;VALUE=DURATION:PT1H
X-Robots-Tag:noindex
X-PUBLISHED-TTL:PT1H
BEGIN:VTIMEZONE
TZID:UTC
BEGIN:STANDARD
TZOFFSETFROM:+0000
TZOFFSETTO:+0000
TZNAME:UTC
DTSTART:20240101T000000
END:STANDARD
END:VTIMEZONE
BEGIN:VEVENT
DTSTART;TZID=UTC:20250106T170000
DTEND;TZID=UTC:20250106T190000
DTSTAMP:20260422T021016
CREATED:20241205T001534Z
LAST-MODIFIED:20241205T001534Z
UID:16815-1736182800-1736190000@www.consorziocostasmeralda.com
SUMMARY:La Befana con le caramelle e il carbone
DESCRIPTION:[vc_row][vc_column][vc_column_text css=””] \nLa Magia Del Natale si chiude a Porto Cervo con l’Epifania. La befana è pronta a regalare dolciumi ai bambini nel corso dell’ultimo appuntamento natalizio. A seguire l’esibizione di Luigi Fontana che porterà in scena le canzoni indimenticabili di Jimmy Fontana. \n17:00 – Apertura Mercatini\n18:00 – La Befana con le caramelle e carbone\n18:30 – Live Music: Luigi Fontana\, voci e tastiere\, le canzoni di Jimmy Fontana\n19:00 – Cena ai Mercatini di Natale \n[/vc_column_text][/vc_column][/vc_row]
URL:https://www.consorziocostasmeralda.com/event/la-befana-con-le-caramelle-e-carbone/
LOCATION:Porto Cervo\, Porto Cervo\, 07021\, SS\, Porto Cervo\, 07021\, Italia
CATEGORIES:Eventi 2025,Eventi Consorzio,Prossimi Eventi
ATTACH;FMTTYPE=image/jpeg:https://www.consorziocostasmeralda.com/wp-content/uploads/2023/12/natale-porto-cervo-3.jpg
END:VEVENT
END:VCALENDAR