BEGIN:VCALENDAR
VERSION:2.0
PRODID:-//Consorzio Costa Smeralda - ECPv6.15.20//NONSGML v1.0//EN
CALSCALE:GREGORIAN
METHOD:PUBLISH
X-WR-CALNAME:Consorzio Costa Smeralda
X-ORIGINAL-URL:https://www.consorziocostasmeralda.com
X-WR-CALDESC:Eventi per Consorzio Costa Smeralda
REFRESH-INTERVAL;VALUE=DURATION:PT1H
X-Robots-Tag:noindex
X-PUBLISHED-TTL:PT1H
BEGIN:VTIMEZONE
TZID:UTC
BEGIN:STANDARD
TZOFFSETFROM:+0000
TZOFFSETTO:+0000
TZNAME:UTC
DTSTART:20240101T000000
END:STANDARD
END:VTIMEZONE
BEGIN:VEVENT
DTSTART;TZID=UTC:20250104T170000
DTEND;TZID=UTC:20250104T190000
DTSTAMP:20260422T015805
CREATED:20241205T000548Z
LAST-MODIFIED:20241206T083238Z
UID:16811-1736010000-1736017200@www.consorziocostasmeralda.com
SUMMARY:Bianche Presenze e Fire Show
DESCRIPTION:Una serata imperdibile a Natale a Porto Cervo. Il borgo ospiterà il 4 gennaio alle 18 le performance di Bianche Presenze e Fire Show. A seguire il Coro Sos Astores e Coro di Monti \n17:00 – Apertura Mercatini\n18:00 – Bianche Presenze e Fire Show\n18:30 – Live Music: Coro Sos Astores e Coro di Monti\n19:00 – Cena ai Mercatini di Natale
URL:https://www.consorziocostasmeralda.com/event/bianche-presenze-e-fire-show/
LOCATION:Porto Cervo\, Porto Cervo\, 07021\, SS\, Porto Cervo\, 07021\, Italia
CATEGORIES:Eventi 2025,Eventi Consorzio,Prossimi Eventi
ATTACH;FMTTYPE=image/jpeg:https://www.consorziocostasmeralda.com/wp-content/uploads/2023/12/natale-porto-cervo-16.jpg
END:VEVENT
END:VCALENDAR