BEGIN:VCALENDAR
VERSION:2.0
PRODID:-//Consorzio Costa Smeralda - ECPv6.15.20//NONSGML v1.0//EN
CALSCALE:GREGORIAN
METHOD:PUBLISH
X-WR-CALNAME:Consorzio Costa Smeralda
X-ORIGINAL-URL:https://www.consorziocostasmeralda.com
X-WR-CALDESC:Eventi per Consorzio Costa Smeralda
REFRESH-INTERVAL;VALUE=DURATION:PT1H
X-Robots-Tag:noindex
X-PUBLISHED-TTL:PT1H
BEGIN:VTIMEZONE
TZID:UTC
BEGIN:STANDARD
TZOFFSETFROM:+0000
TZOFFSETTO:+0000
TZNAME:UTC
DTSTART:20230101T000000
END:STANDARD
END:VTIMEZONE
BEGIN:VEVENT
DTSTART;TZID=UTC:20241227T170000
DTEND;TZID=UTC:20241227T190000
DTSTAMP:20260421T130911
CREATED:20241204T232734Z
LAST-MODIFIED:20241204T232734Z
UID:16799-1735318800-1735326000@www.consorziocostasmeralda.com
SUMMARY:Concerto Jazz di Natale
DESCRIPTION:[vc_row][vc_column][vc_column_text css=””] \nPorto Cervo a ritmo di jazz. Il 27 dicembre\, dopo il Teatro Burattini il borgo avrà il piacere di ospitare un concerto jazz di Natale alle 18 che accompagnerà i presenti per tutta la durata della serata. \n17:00 – Apertura Mercatini\n17:30 – Teatro Burattini\n18:00 – Live Music: Concerto Jazz di Natale\n19:00 – Cena ai Mercatini di Natale \n[/vc_column_text][/vc_column][/vc_row]
URL:https://www.consorziocostasmeralda.com/event/concerto-jazz-di-natale/
LOCATION:Porto Cervo\, Porto Cervo\, 07021\, SS\, Porto Cervo\, 07021\, Italia
CATEGORIES:Eventi 2024,Eventi Consorzio,Prossimi Eventi
ATTACH;FMTTYPE=image/jpeg:https://www.consorziocostasmeralda.com/wp-content/uploads/2023/12/natale-porto-cervo-17.jpg
END:VEVENT
END:VCALENDAR