BEGIN:VCALENDAR
VERSION:2.0
PRODID:-//Consorzio Costa Smeralda - ECPv6.15.20//NONSGML v1.0//EN
CALSCALE:GREGORIAN
METHOD:PUBLISH
X-WR-CALNAME:Consorzio Costa Smeralda
X-ORIGINAL-URL:https://www.consorziocostasmeralda.com
X-WR-CALDESC:Eventi per Consorzio Costa Smeralda
REFRESH-INTERVAL;VALUE=DURATION:PT1H
X-Robots-Tag:noindex
X-PUBLISHED-TTL:PT1H
BEGIN:VTIMEZONE
TZID:UTC
BEGIN:STANDARD
TZOFFSETFROM:+0000
TZOFFSETTO:+0000
TZNAME:UTC
DTSTART:20230101T000000
END:STANDARD
END:VTIMEZONE
BEGIN:VEVENT
DTSTART;TZID=UTC:20241220T170000
DTEND;TZID=UTC:20241220T190000
DTSTAMP:20260421T054428
CREATED:20241204T225750Z
LAST-MODIFIED:20241204T225750Z
UID:16791-1734714000-1734721200@www.consorziocostasmeralda.com
SUMMARY:Musica e tradizioni a Porto Cervo
DESCRIPTION:[vc_row][vc_column][vc_column_text css=””] \nMusica e tradizioni in attesa di un altro week-end di grandi emozioni a Porto Cervo. Il 20 dicembre il borgo avrà il piacere di ospitare la voce e il pianoforte del Serra Duo. In questo clima natalizio non può mancare la cena ai mercatini per passare una serata in compagnia aspettando il fine settimana sotto il cielo stellato della Sardegna. \n17:00 – Apertura Mercatini\n18:00 – Serra Duo\, piano e voce\n19:00 – Cena ai Mercatini di Natale \n[/vc_column_text][/vc_column][/vc_row]
URL:https://www.consorziocostasmeralda.com/event/musica-e-tradizioni-a-porto-cervo/
LOCATION:Porto Cervo\, Porto Cervo\, 07021\, SS\, Porto Cervo\, 07021\, Italia
CATEGORIES:Eventi 2024,Eventi Consorzio,Prossimi Eventi
ATTACH;FMTTYPE=image/jpeg:https://www.consorziocostasmeralda.com/wp-content/uploads/2023/12/natale-porto-cervo-3.jpg
END:VEVENT
END:VCALENDAR