BEGIN:VCALENDAR
VERSION:2.0
PRODID:-//Consorzio Costa Smeralda - ECPv6.15.20//NONSGML v1.0//EN
CALSCALE:GREGORIAN
METHOD:PUBLISH
X-ORIGINAL-URL:https://www.consorziocostasmeralda.com
X-WR-CALDESC:Eventi per Consorzio Costa Smeralda
REFRESH-INTERVAL;VALUE=DURATION:PT1H
X-Robots-Tag:noindex
X-PUBLISHED-TTL:PT1H
BEGIN:VTIMEZONE
TZID:UTC
BEGIN:STANDARD
TZOFFSETFROM:+0000
TZOFFSETTO:+0000
TZNAME:UTC
DTSTART:20230101T000000
END:STANDARD
END:VTIMEZONE
BEGIN:VEVENT
DTSTART;TZID=UTC:20241219T173000
DTEND;TZID=UTC:20241219T190000
DTSTAMP:20260421T041214
CREATED:20241204T225043Z
LAST-MODIFIED:20241204T225202Z
UID:16787-1734629400-1734634800@www.consorziocostasmeralda.com
SUMMARY:Veronica Perseo live a Porto Cervo
DESCRIPTION:[vc_row][vc_column][vc_column_text css=””] \nProseguono gli appuntamenti di Natale a Porto Cervo. Il 19 dicembre alle 18 ci sarà l’esibizione della cantautrice\, compositrice e pianista Veronica Perseo. \n17:00 – Apertura Mercatini\n18:00 – Veronica Perseo\, voce e piano\n19:00 – Cena ai Mercatini di Natale \n[/vc_column_text][/vc_column][/vc_row]
URL:https://www.consorziocostasmeralda.com/event/veronica-perseo/
LOCATION:Porto Cervo\, Porto Cervo\, 07021\, SS\, Porto Cervo\, 07021\, Italia
CATEGORIES:Eventi 2024,Eventi Consorzio,Prossimi Eventi
ATTACH;FMTTYPE=image/jpeg:https://www.consorziocostasmeralda.com/wp-content/uploads/2023/12/natale-porto-cervo-1.jpg
END:VEVENT
END:VCALENDAR