BEGIN:VCALENDAR
VERSION:2.0
PRODID:-//Consorzio Costa Smeralda - ECPv6.15.20//NONSGML v1.0//EN
CALSCALE:GREGORIAN
METHOD:PUBLISH
X-ORIGINAL-URL:https://www.consorziocostasmeralda.com
X-WR-CALDESC:Eventi per Consorzio Costa Smeralda
REFRESH-INTERVAL;VALUE=DURATION:PT1H
X-Robots-Tag:noindex
X-PUBLISHED-TTL:PT1H
BEGIN:VTIMEZONE
TZID:UTC
BEGIN:STANDARD
TZOFFSETFROM:+0000
TZOFFSETTO:+0000
TZNAME:UTC
DTSTART:20230101T000000
END:STANDARD
END:VTIMEZONE
BEGIN:VEVENT
DTSTART;TZID=UTC:20241215T170000
DTEND;TZID=UTC:20241215T190000
DTSTAMP:20260421T002723
CREATED:20241204T204026Z
LAST-MODIFIED:20241204T232314Z
UID:16785-1734282000-1734289200@www.consorziocostasmeralda.com
SUMMARY:Un Natale a passo di danza
DESCRIPTION:[vc_row][vc_column][vc_column_text css=””] \nIl Natale a Porto Cervo si celebra a passo di ballo. Il 15 dicembre il borgo avrà il piacere di ospitare l’associazione Aristeia Danza che per l’occasione si esibirà alle 18 in uno spettacolo aperto al pubblico. In questo clima natalizio non può mancare la cena ai mercatini di Natale per passare una serata unica insieme alle persone più care. \n17:00 – Apertura Mercatini\n18:00 – Danza Aristea Arzachena \n19:00 – Cena ai Mercatini di Natale[/vc_column_text][/vc_column][/vc_row]
URL:https://www.consorziocostasmeralda.com/event/un-natale-a-passo-di-danza/
LOCATION:Porto Cervo\, Porto Cervo\, 07021\, SS\, Porto Cervo\, 07021\, Italia
CATEGORIES:Eventi 2024,Eventi Consorzio,Prossimi Eventi
ATTACH;FMTTYPE=image/jpeg:https://www.consorziocostasmeralda.com/wp-content/uploads/2023/12/natale-porto-cervo-17.jpg
END:VEVENT
END:VCALENDAR