BEGIN:VCALENDAR
VERSION:2.0
PRODID:-//Consorzio Costa Smeralda - ECPv6.15.20//NONSGML v1.0//EN
CALSCALE:GREGORIAN
METHOD:PUBLISH
X-WR-CALNAME:Consorzio Costa Smeralda
X-ORIGINAL-URL:https://www.consorziocostasmeralda.com
X-WR-CALDESC:Eventi per Consorzio Costa Smeralda
REFRESH-INTERVAL;VALUE=DURATION:PT1H
X-Robots-Tag:noindex
X-PUBLISHED-TTL:PT1H
BEGIN:VTIMEZONE
TZID:UTC
BEGIN:STANDARD
TZOFFSETFROM:+0000
TZOFFSETTO:+0000
TZNAME:UTC
DTSTART:20230101T000000
END:STANDARD
END:VTIMEZONE
BEGIN:VEVENT
DTSTART;TZID=UTC:20241212T170000
DTEND;TZID=UTC:20241212T190000
DTSTAMP:20260420T183635
CREATED:20241204T193932Z
LAST-MODIFIED:20241204T193932Z
UID:16778-1734022800-1734030000@www.consorziocostasmeralda.com
SUMMARY:Una serata con il Mago Pirry
DESCRIPTION:[vc_row][vc_column][vc_column_text css=””] \nLa Magia Del Natale a Porto Cervo. In attesa di un week-end di grandi emozioni\, il 12 dicembre il borgo avrà il piacere di ospitare il Mago Pirry che per l’occasione si esibirà alle 18 in uno spettacolo aperto al pubblico. In questo clima natalizio non può mancare la cena ai mercatini per passare una serata in compagnia aspettando il fine settimana sotto il cielo stellato della Sardegna. \n17:00 – Apertura Mercatini\n18:00 – Mago Pirry\n19:00 – Cena ai Mercatini di Natale \n[/vc_column_text][/vc_column][/vc_row]
URL:https://www.consorziocostasmeralda.com/event/una-serata-con-il-mago-pirry/
LOCATION:Porto Cervo\, Porto Cervo\, 07021\, SS\, Porto Cervo\, 07021\, Italia
CATEGORIES:Eventi 2024,Eventi Consorzio,Prossimi Eventi
ATTACH;FMTTYPE=image/jpeg:https://www.consorziocostasmeralda.com/wp-content/uploads/2023/12/natale-porto-cervo-3.jpg
END:VEVENT
END:VCALENDAR