BEGIN:VCALENDAR
VERSION:2.0
PRODID:-//Consorzio Costa Smeralda - ECPv6.15.20//NONSGML v1.0//EN
CALSCALE:GREGORIAN
METHOD:PUBLISH
X-WR-CALNAME:Consorzio Costa Smeralda
X-ORIGINAL-URL:https://www.consorziocostasmeralda.com
X-WR-CALDESC:Eventi per Consorzio Costa Smeralda
REFRESH-INTERVAL;VALUE=DURATION:PT1H
X-Robots-Tag:noindex
X-PUBLISHED-TTL:PT1H
BEGIN:VTIMEZONE
TZID:UTC
BEGIN:STANDARD
TZOFFSETFROM:+0000
TZOFFSETTO:+0000
TZNAME:UTC
DTSTART:20230101T000000
END:STANDARD
END:VTIMEZONE
BEGIN:VEVENT
DTSTART;TZID=UTC:20240910T193000
DTEND;TZID=UTC:20240910T210000
DTSTAMP:20260420T133649
CREATED:20240627T164500Z
LAST-MODIFIED:20240710T134746Z
UID:16019-1725996600-1726002000@www.consorziocostasmeralda.com
SUMMARY:Porto Cervo Libri - Luca Telese e Bianca Berlinguer
DESCRIPTION:[vc_row][vc_column][vc_column_text] \nPorto Cervo Libri – Luca Telese  \nA chiudere la rassegna di Porto Cervo Libri è Luca Telese che il 10 settembre presenterà Opposizione. L’ultima battaglia di Enrico Berlinguer. Un leader conservatore\, ideologico\, ancorato a categorie novecentesche.  Analisti e giornalisti decretano che il suo tempo politico è finito e nella direzione del Pci monta un dissenso sempre più duro verso le sue scelte. Ma intanto\, nel Paese\, il segretario comunista è diventato un mito per intere masse di persone: compresi tanti che non votano per il suo partito. Il suo funerale\, con milioni di italiani in lacrime che sfilano davanti alla bara\, lo dimostrerà con l’evidenza di un lutto collettivo mai più provato dopo di allora[/vc_column_text][/vc_column][/vc_row]
URL:https://www.consorziocostasmeralda.com/event/porto-cervo-libri-luca-telese-e-bianca-berlinguer/
LOCATION:Piazza Centrale  –  Porto Cervo\, Piazza Centrale\, 07021 Porto Cervo SS\, Porto Cervo\, 07021\, Italia
CATEGORIES:Eventi 2024,Eventi Consorzio,Prossimi Eventi
ATTACH;FMTTYPE=image/jpeg:https://www.consorziocostasmeralda.com/wp-content/uploads/2024/06/telese.jpg
END:VEVENT
END:VCALENDAR