BEGIN:VCALENDAR
VERSION:2.0
PRODID:-//Consorzio Costa Smeralda - ECPv6.15.20//NONSGML v1.0//EN
CALSCALE:GREGORIAN
METHOD:PUBLISH
X-ORIGINAL-URL:https://www.consorziocostasmeralda.com
X-WR-CALDESC:Eventi per Consorzio Costa Smeralda
REFRESH-INTERVAL;VALUE=DURATION:PT1H
X-Robots-Tag:noindex
X-PUBLISHED-TTL:PT1H
BEGIN:VTIMEZONE
TZID:UTC
BEGIN:STANDARD
TZOFFSETFROM:+0000
TZOFFSETTO:+0000
TZNAME:UTC
DTSTART:20230101T000000
END:STANDARD
END:VTIMEZONE
BEGIN:VEVENT
DTSTART;TZID=UTC:20240909T213000
DTEND;TZID=UTC:20240909T233000
DTSTAMP:20260420T150539
CREATED:20240627T164340Z
LAST-MODIFIED:20240905T162923Z
UID:16017-1725917400-1725924600@www.consorziocostasmeralda.com
SUMMARY:Classical Music Festival - Louis Lortie\, pianoforte
DESCRIPTION:[vc_row][vc_column][vc_column_text] \nFestival Music classic – Louis Lortie\, pianoforte \nLa seconda serata sarà dedicata ai Grandi Interpreti della Storia della Musica\, con l’esibizione del celebre pianista franco-canadese Louis Lortie. Famoso per la sua vasta gamma interpretativa e per il suo approccio personale a un repertorio ampio\, Lortie si esibirà in un programma che include il Concerto per pianoforte in La maggiore K 414 di W.A. Mozart\, la Quarta Ballata di F. Chopin e il Quintetto per pianoforte e archi di R. Schumann. Descritto dal The Times come un interprete capace di combinare spontaneità e maturità\, Lortie incanterà il pubblico con il suo stile raffinato e poetico.[/vc_column_text][/vc_column][/vc_row]
URL:https://www.consorziocostasmeralda.com/event/classical-music-festival-9-settembre-2024/
LOCATION:Conference Center-Porto Cervo\, Via Porto Vecchio\, 07021 Porto Cervo OT\, Porto Cervo\, 07021\, Italia
CATEGORIES:Eventi 2024,Eventi Consorzio,Prossimi Eventi
ATTACH;FMTTYPE=image/jpeg:https://www.consorziocostasmeralda.com/wp-content/uploads/2022/09/classical-music-festival-2.jpg
END:VEVENT
END:VCALENDAR