BEGIN:VCALENDAR
VERSION:2.0
PRODID:-//Consorzio Costa Smeralda - ECPv6.15.20//NONSGML v1.0//EN
CALSCALE:GREGORIAN
METHOD:PUBLISH
X-WR-CALNAME:Consorzio Costa Smeralda
X-ORIGINAL-URL:https://www.consorziocostasmeralda.com
X-WR-CALDESC:Eventi per Consorzio Costa Smeralda
REFRESH-INTERVAL;VALUE=DURATION:PT1H
X-Robots-Tag:noindex
X-PUBLISHED-TTL:PT1H
BEGIN:VTIMEZONE
TZID:UTC
BEGIN:STANDARD
TZOFFSETFROM:+0000
TZOFFSETTO:+0000
TZNAME:UTC
DTSTART:20230101T000000
END:STANDARD
END:VTIMEZONE
BEGIN:VEVENT
DTSTART;TZID=UTC:20240803T100000
DTEND;TZID=UTC:20240908T233000
DTSTAMP:20260420T094332
CREATED:20240627T161643Z
LAST-MODIFIED:20240719T111227Z
UID:15986-1722679200-1725838200@www.consorziocostasmeralda.com
SUMMARY:Mostra d'arte contemporanea - Colours of the Soul
DESCRIPTION:[vc_row][vc_column][vc_column_text] \n“Colours of the Soul” \n\n\n\n\nMostra d’arte contemporanea\nPorto Cervo\, La Piazza del Principe\, 3 agosto – 8 settembre 2024\nArtisti: Alessandro De Gasperi\, Kyunghee Kim\, Emanuela Giacco\, Ludwig Antonio Grosa\, Bob Marongiu.\nCon la partecipazione di Giuseppe Carta \nDal 3 agosto all’8 settembre La Piazza del Principe di Porto Cervo accoglierà la mostra d’arte “Colours of the Soul”. \nL’esibizione rappresenta la prima tappa del progetto “Ultra”\, a cura di LamaroArte\, società attiva nella promozione di nuovi talenti e artisti affermati\, e promette di essere un punto di riferimento estivo per le arti visive\, con l’intento di avvicinare un ampio pubblico di appassionati e amanti del bello. \nLa mostra\, ospitata in uno dei luoghi più iconici di Porto Cervo\, La Piazza del Principe\, un quadro dove la natura è stata plasmata dalla genialità dell’architetto Jean Claude Lesuisse\, è stata concepita come vetrina sulle nuove tendenze dell’arte contemporanea\, con un’attenzione particolare al rapporto con il territorio. \nPer questa prima edizione sono stati scelti artisti di estrazione e provenienza diversi\, accomunati dal proposito di comunicare il proprio mondo attraverso il colore. Il titolo “Colours of the Soul” nasce infatti dal desiderio di raccontare ognuno di questi artisti mediante i colori che albergano nei loro animi e che\, nei modi più singolari\, rappresentano la cifra stilistica di ognuno di essi. \nOgni opera rappresenta un viaggio personale nella vita interiore dell’artista per una connessione profonda con i visitatori\, che offra molteplici livelli di interpretazione. \nLa partecipazione speciale di Giuseppe Carta\, maestro della scultura contemporanea\, è il sigillo di prestigio a questa prima edizione. Carta\, famoso a livello internazionale per le sue installazioni raffiguranti frutti dai colori sgargianti\, è un esempio dell’eccellenza sarda nel mondo e omaggerà Porto Cervo con alcune fra le sue opere più rappresentative dal ciclo delle “Germinazioni”. \nPittura\, fotografia\, scultura\, per un caleidoscopio di emozioni che farà brillare questo luogo magico ogni sera per tutto il mese di agosto. All’insegna del colore e della gioia di vivere! \nIl progetto “Ultra” nasce grazie all’intuizione e alla lungimiranza di persone che amano l’arte e intendono valorizzare le bellezze di Porto Cervo e della destinazione Costa Smeralda attraverso significative iniziative artistico-culturali: oltre al titolare della galleria citata\, Emanuele Lamaro\, l’imprenditrice Patrizia Albanese Achenza\, e Natale Vinante\, imprenditore edile e proprietario de La Piazza del Principe – ove verrà ospitata la mostra – che con le sue opere architettoniche tanto ha dato alla destinazione Costa Smeralda. \n“Ultra” intende avvicinare il pubblico all’arte contemporanea andando oltre i circuiti canonici delle gallerie tradizionali. Oltre\, al di là\, è infatti la traduzione letteraria dalla lingua latina della parola Ultra. Per i suoi fondatori un manifesto di intenti per un impegno nella diffusione dell’arte e della cultura. \n\n\n\n\n\n\n\n\nLa galleria d’arte rimane sempre fulcro per la conoscenza dell’arte\, ma entrano in campo altri luoghi e altre occasioni di connessione per nuovi pubblici desiderosi di conoscenza. “Ultra” intende promuovere in forme diverse e talvolta inconsuete artisti “emergenti”\, non ancora entrati nel circuito del mercato delle gallerie\, ma dotati delle qualità per essere protagonisti del domani. Con quotazioni delle opere “accessibili”\, per un approccio graduale e in linea alle esigenze di ciascuno. Oltre al collezionismo\, e alla possibilità di un buon investimento\, l’arte è veicolo di conoscenze\, umane e professionali. Attraverso l’arte nascono sinergie in ambito imprenditoriale e nuove idee\, in un’ottica di stampo “rinascimentale” che ci appartiene e che vogliamo rivendicare. Arte dunque non solo come piacere nel possedere un lavoro unico che farà per sempre parte della nostra vita\, ma come veicolo per accrescere le nostre esperienze e la crescita del nostro pensiero. \n\n\n\n\n[/vc_column_text][/vc_column][/vc_row]
URL:https://www.consorziocostasmeralda.com/event/mostra-darte-contemporanea-colours-of-the-soul/
LOCATION:Piazza del Principe – Porto Cervo\, Porto Cervo\, 07021\, SS\, Porto Cervo\, 07021\, Italia
CATEGORIES:Eventi 2024,Eventi Consorzio,Prossimi Eventi
ATTACH;FMTTYPE=image/jpeg:https://www.consorziocostasmeralda.com/wp-content/uploads/2024/06/cb0d0ab306386c9ecec9991c9a0591ff.jpeg
END:VEVENT
END:VCALENDAR